BEGIN:VCALENDAR
VERSION:2.0
PRODID:-//Packing House Wines - ECPv6.15.20//NONSGML v1.0//EN
CALSCALE:GREGORIAN
METHOD:PUBLISH
X-WR-CALNAME:Packing House Wines
X-ORIGINAL-URL:https://packinghousewines.com
X-WR-CALDESC:Events for Packing House Wines
REFRESH-INTERVAL;VALUE=DURATION:PT1H
X-Robots-Tag:noindex
X-PUBLISHED-TTL:PT1H
BEGIN:VTIMEZONE
TZID:America/Los_Angeles
BEGIN:DAYLIGHT
TZOFFSETFROM:-0800
TZOFFSETTO:-0700
TZNAME:PDT
DTSTART:20220313T100000
END:DAYLIGHT
BEGIN:STANDARD
TZOFFSETFROM:-0700
TZOFFSETTO:-0800
TZNAME:PST
DTSTART:20221106T090000
END:STANDARD
BEGIN:DAYLIGHT
TZOFFSETFROM:-0800
TZOFFSETTO:-0700
TZNAME:PDT
DTSTART:20230312T100000
END:DAYLIGHT
BEGIN:STANDARD
TZOFFSETFROM:-0700
TZOFFSETTO:-0800
TZNAME:PST
DTSTART:20231105T090000
END:STANDARD
BEGIN:DAYLIGHT
TZOFFSETFROM:-0800
TZOFFSETTO:-0700
TZNAME:PDT
DTSTART:20240310T100000
END:DAYLIGHT
BEGIN:STANDARD
TZOFFSETFROM:-0700
TZOFFSETTO:-0800
TZNAME:PST
DTSTART:20241103T090000
END:STANDARD
END:VTIMEZONE
BEGIN:VEVENT
DTSTART;TZID=America/Los_Angeles:20231110T170000
DTEND;TZID=America/Los_Angeles:20231110T210000
DTSTAMP:20260423T071702
CREATED:20231111T005508Z
LAST-MODIFIED:20231111T005508Z
UID:8358-1699635600-1699650000@packinghousewines.com
SUMMARY:Weekend Wine Tasting: Burgundy
DESCRIPTION:
URL:https://packinghousewines.com/event/weekend-wine-tasting-burgundy-4/
END:VEVENT
BEGIN:VEVENT
DTSTART;TZID=America/Los_Angeles:20231111T120000
DTEND;TZID=America/Los_Angeles:20231111T210000
DTSTAMP:20260423T071702
CREATED:20231111T005544Z
LAST-MODIFIED:20231111T005544Z
UID:8360-1699704000-1699736400@packinghousewines.com
SUMMARY:Weekend Wine Tasting: Burgundy
DESCRIPTION:
URL:https://packinghousewines.com/event/weekend-wine-tasting-burgundy-5/
END:VEVENT
BEGIN:VEVENT
DTSTART;TZID=America/Los_Angeles:20231112T120000
DTEND;TZID=America/Los_Angeles:20231112T180000
DTSTAMP:20260423T071702
CREATED:20231111T005633Z
LAST-MODIFIED:20231111T005633Z
UID:8362-1699790400-1699812000@packinghousewines.com
SUMMARY:Weekend Wine Tasting: Burgundy
DESCRIPTION:Upon Availability
URL:https://packinghousewines.com/event/weekend-wine-tasting-burgundy-6/
END:VEVENT
BEGIN:VEVENT
DTSTART;TZID=America/Los_Angeles:20231117T170000
DTEND;TZID=America/Los_Angeles:20231117T210000
DTSTAMP:20260423T071702
CREATED:20231111T005744Z
LAST-MODIFIED:20231111T005744Z
UID:8364-1700240400-1700254800@packinghousewines.com
SUMMARY:Weekend Wine Tasting: Oregon Pinots
DESCRIPTION:
URL:https://packinghousewines.com/event/weekend-wine-tasting-oregon-pinots-3/
END:VEVENT
END:VCALENDAR