BEGIN:VCALENDAR
VERSION:2.0
PRODID:-//Packing House Wines - ECPv6.15.20//NONSGML v1.0//EN
CALSCALE:GREGORIAN
METHOD:PUBLISH
X-ORIGINAL-URL:https://packinghousewines.com
X-WR-CALDESC:Events for Packing House Wines
REFRESH-INTERVAL;VALUE=DURATION:PT1H
X-Robots-Tag:noindex
X-PUBLISHED-TTL:PT1H
BEGIN:VTIMEZONE
TZID:America/Los_Angeles
BEGIN:DAYLIGHT
TZOFFSETFROM:-0800
TZOFFSETTO:-0700
TZNAME:PDT
DTSTART:20220313T100000
END:DAYLIGHT
BEGIN:STANDARD
TZOFFSETFROM:-0700
TZOFFSETTO:-0800
TZNAME:PST
DTSTART:20221106T090000
END:STANDARD
BEGIN:DAYLIGHT
TZOFFSETFROM:-0800
TZOFFSETTO:-0700
TZNAME:PDT
DTSTART:20230312T100000
END:DAYLIGHT
BEGIN:STANDARD
TZOFFSETFROM:-0700
TZOFFSETTO:-0800
TZNAME:PST
DTSTART:20231105T090000
END:STANDARD
BEGIN:DAYLIGHT
TZOFFSETFROM:-0800
TZOFFSETTO:-0700
TZNAME:PDT
DTSTART:20240310T100000
END:DAYLIGHT
BEGIN:STANDARD
TZOFFSETFROM:-0700
TZOFFSETTO:-0800
TZNAME:PST
DTSTART:20241103T090000
END:STANDARD
END:VTIMEZONE
BEGIN:VEVENT
DTSTART;TZID=America/Los_Angeles:20231001T120000
DTEND;TZID=America/Los_Angeles:20231001T180000
DTSTAMP:20260423T085416
CREATED:20230813T024247Z
LAST-MODIFIED:20230924T004832Z
UID:8306-1696161600-1696183200@packinghousewines.com
SUMMARY:Weekend Wine Tasting: Hispanic Heritage Wine Tasting
DESCRIPTION:Upon Availability
URL:https://packinghousewines.com/event/weekend-wine-tasting-west-coast-reds-3/
END:VEVENT
BEGIN:VEVENT
DTSTART;TZID=America/Los_Angeles:20231006T170000
DTEND;TZID=America/Los_Angeles:20231006T210000
DTSTAMP:20260423T085416
CREATED:20230924T005131Z
LAST-MODIFIED:20230924T005131Z
UID:8320-1696611600-1696626000@packinghousewines.com
SUMMARY:Weekend Wine Tasting: Italian B's
DESCRIPTION:
URL:https://packinghousewines.com/event/weekend-wine-tasting-italian-bs/
END:VEVENT
BEGIN:VEVENT
DTSTART;TZID=America/Los_Angeles:20231007T120000
DTEND;TZID=America/Los_Angeles:20231007T210000
DTSTAMP:20260423T085416
CREATED:20230924T005200Z
LAST-MODIFIED:20230924T005200Z
UID:8323-1696680000-1696712400@packinghousewines.com
SUMMARY:Weekend Wine Tasting: Italian B's
DESCRIPTION:
URL:https://packinghousewines.com/event/weekend-wine-tasting-italian-bs-2/
END:VEVENT
BEGIN:VEVENT
DTSTART;TZID=America/Los_Angeles:20231008T120000
DTEND;TZID=America/Los_Angeles:20231008T180000
DTSTAMP:20260423T085416
CREATED:20230924T005233Z
LAST-MODIFIED:20230924T005233Z
UID:8322-1696766400-1696788000@packinghousewines.com
SUMMARY:Weekend Wine Tasting: Italian B's
DESCRIPTION:
URL:https://packinghousewines.com/event/weekend-wine-tasting-italian-bs-3/
END:VEVENT
BEGIN:VEVENT
DTSTART;TZID=America/Los_Angeles:20231013T170000
DTEND;TZID=America/Los_Angeles:20231013T210000
DTSTAMP:20260423T085416
CREATED:20230924T005312Z
LAST-MODIFIED:20230924T005312Z
UID:8326-1697216400-1697230800@packinghousewines.com
SUMMARY:Weekend Wine Tasting: West Coast Reds
DESCRIPTION:
URL:https://packinghousewines.com/event/weekend-wine-tasting-west-coast-reds-4/
END:VEVENT
BEGIN:VEVENT
DTSTART;TZID=America/Los_Angeles:20231014T120000
DTEND;TZID=America/Los_Angeles:20231014T210000
DTSTAMP:20260423T085416
CREATED:20230924T005422Z
LAST-MODIFIED:20230924T005422Z
UID:8330-1697284800-1697317200@packinghousewines.com
SUMMARY:Weekend Wine Tasting: West Coast Reds
DESCRIPTION:
URL:https://packinghousewines.com/event/weekend-wine-tasting-west-coast-reds-6/
END:VEVENT
BEGIN:VEVENT
DTSTART;TZID=America/Los_Angeles:20231015T120000
DTEND;TZID=America/Los_Angeles:20231015T180000
DTSTAMP:20260423T085416
CREATED:20230924T005452Z
LAST-MODIFIED:20230924T005452Z
UID:8332-1697371200-1697392800@packinghousewines.com
SUMMARY:Weekend Wine Tasting: West Coast Reds
DESCRIPTION:
URL:https://packinghousewines.com/event/weekend-wine-tasting-west-coast-reds-7/
END:VEVENT
BEGIN:VEVENT
DTSTART;TZID=America/Los_Angeles:20231020T170000
DTEND;TZID=America/Los_Angeles:20231020T210000
DTSTAMP:20260423T085416
CREATED:20230924T005605Z
LAST-MODIFIED:20230924T005810Z
UID:8334-1697821200-1697835600@packinghousewines.com
SUMMARY:Weekend Wine Tasting: Merlots
DESCRIPTION:
URL:https://packinghousewines.com/event/weekend-wine-tasting-merlots/
END:VEVENT
BEGIN:VEVENT
DTSTART;TZID=America/Los_Angeles:20231021T120000
DTEND;TZID=America/Los_Angeles:20231021T210000
DTSTAMP:20260423T085416
CREATED:20230924T005714Z
LAST-MODIFIED:20230924T005751Z
UID:8336-1697889600-1697922000@packinghousewines.com
SUMMARY:Weekend Wine Tasting: Merlots
DESCRIPTION:
URL:https://packinghousewines.com/event/weekend-wine-tasting-merlots-2/
END:VEVENT
BEGIN:VEVENT
DTSTART;TZID=America/Los_Angeles:20231022T120000
DTEND;TZID=America/Los_Angeles:20231022T180000
DTSTAMP:20260423T085416
CREATED:20230924T005901Z
LAST-MODIFIED:20230924T005901Z
UID:8338-1697976000-1697997600@packinghousewines.com
SUMMARY:Weekend Wine Tasting: Merlots
DESCRIPTION:
URL:https://packinghousewines.com/event/weekend-wine-tasting-merlots-3/
END:VEVENT
BEGIN:VEVENT
DTSTART;TZID=America/Los_Angeles:20231025T170000
DTEND;TZID=America/Los_Angeles:20231025T190000
DTSTAMP:20260423T085416
CREATED:20230924T010024Z
LAST-MODIFIED:20230924T010241Z
UID:8340-1698253200-1698260400@packinghousewines.com
SUMMARY:Special Mid-Week Tasting: Wine Wednesday
DESCRIPTION:This last Wednesday of the month\, join us for a special mid-week tasting with special guest representing the finest brands.
URL:https://packinghousewines.com/event/special-mid-week-tasting-wine-wednesday-2/
END:VEVENT
BEGIN:VEVENT
DTSTART;TZID=America/Los_Angeles:20231027T170000
DTEND;TZID=America/Los_Angeles:20231027T210000
DTSTAMP:20260423T085416
CREATED:20230924T010434Z
LAST-MODIFIED:20230924T010520Z
UID:8342-1698426000-1698440400@packinghousewines.com
SUMMARY:Weekend Wine Tasting: High "Octane" Wines
DESCRIPTION:
URL:https://packinghousewines.com/event/weekend-wine-tasting-high-octane-wines/
END:VEVENT
BEGIN:VEVENT
DTSTART;TZID=America/Los_Angeles:20231028T120000
DTEND;TZID=America/Los_Angeles:20231028T210000
DTSTAMP:20260423T085416
CREATED:20230924T010556Z
LAST-MODIFIED:20230924T010556Z
UID:8344-1698494400-1698526800@packinghousewines.com
SUMMARY:Weekend Wine Tasting: High "Octane" Wines
DESCRIPTION:
URL:https://packinghousewines.com/event/weekend-wine-tasting-high-octane-wines-2/
END:VEVENT
BEGIN:VEVENT
DTSTART;TZID=America/Los_Angeles:20231029T120000
DTEND;TZID=America/Los_Angeles:20231029T180000
DTSTAMP:20260423T085416
CREATED:20230924T010631Z
LAST-MODIFIED:20230924T010631Z
UID:8345-1698580800-1698602400@packinghousewines.com
SUMMARY:Weekend Wine Tasting: High "Octane" Wines
DESCRIPTION:
URL:https://packinghousewines.com/event/weekend-wine-tasting-high-octane-wines-3/
END:VEVENT
END:VCALENDAR