BEGIN:VCALENDAR
VERSION:2.0
PRODID:-//Packing House Wines - ECPv6.15.20//NONSGML v1.0//EN
CALSCALE:GREGORIAN
METHOD:PUBLISH
X-ORIGINAL-URL:https://packinghousewines.com
X-WR-CALDESC:Events for Packing House Wines
REFRESH-INTERVAL;VALUE=DURATION:PT1H
X-Robots-Tag:noindex
X-PUBLISHED-TTL:PT1H
BEGIN:VTIMEZONE
TZID:America/Los_Angeles
BEGIN:DAYLIGHT
TZOFFSETFROM:-0800
TZOFFSETTO:-0700
TZNAME:PDT
DTSTART:20220313T100000
END:DAYLIGHT
BEGIN:STANDARD
TZOFFSETFROM:-0700
TZOFFSETTO:-0800
TZNAME:PST
DTSTART:20221106T090000
END:STANDARD
BEGIN:DAYLIGHT
TZOFFSETFROM:-0800
TZOFFSETTO:-0700
TZNAME:PDT
DTSTART:20230312T100000
END:DAYLIGHT
BEGIN:STANDARD
TZOFFSETFROM:-0700
TZOFFSETTO:-0800
TZNAME:PST
DTSTART:20231105T090000
END:STANDARD
BEGIN:DAYLIGHT
TZOFFSETFROM:-0800
TZOFFSETTO:-0700
TZNAME:PDT
DTSTART:20240310T100000
END:DAYLIGHT
BEGIN:STANDARD
TZOFFSETFROM:-0700
TZOFFSETTO:-0800
TZNAME:PST
DTSTART:20241103T090000
END:STANDARD
END:VTIMEZONE
BEGIN:VEVENT
DTSTART;TZID=America/Los_Angeles:20230407T170000
DTEND;TZID=America/Los_Angeles:20230407T210000
DTSTAMP:20260423T181720
CREATED:20230406T025121Z
LAST-MODIFIED:20230406T025121Z
UID:8170-1680886800-1680901200@packinghousewines.com
SUMMARY:Weekend Wine Tasting: Easter Wines
DESCRIPTION:
URL:https://packinghousewines.com/event/weekend-wine-tasting-easter-wines/
END:VEVENT
BEGIN:VEVENT
DTSTART;TZID=America/Los_Angeles:20230408T120000
DTEND;TZID=America/Los_Angeles:20230408T210000
DTSTAMP:20260423T181720
CREATED:20230406T025154Z
LAST-MODIFIED:20230406T025154Z
UID:8177-1680955200-1680987600@packinghousewines.com
SUMMARY:Weekend Wine Tasting: Easter Wines
DESCRIPTION:
URL:https://packinghousewines.com/event/weekend-wine-tasting-easter-wines-2/
END:VEVENT
BEGIN:VEVENT
DTSTART;TZID=America/Los_Angeles:20230409T120000
DTEND;TZID=America/Los_Angeles:20230409T210000
DTSTAMP:20260423T181720
CREATED:20230406T025230Z
LAST-MODIFIED:20230406T025230Z
UID:8179-1681041600-1681074000@packinghousewines.com
SUMMARY:Closed for Easter
DESCRIPTION:
URL:https://packinghousewines.com/event/closed-for-easter-2/
END:VEVENT
BEGIN:VEVENT
DTSTART;TZID=America/Los_Angeles:20230414T170000
DTEND;TZID=America/Los_Angeles:20230414T210000
DTSTAMP:20260423T181720
CREATED:20230406T025304Z
LAST-MODIFIED:20230406T025304Z
UID:8181-1681491600-1681506000@packinghousewines.com
SUMMARY:Weekend Wine Tasting: Central Coast Reds
DESCRIPTION:
URL:https://packinghousewines.com/event/weekend-wine-tasting-central-coast-reds/
END:VEVENT
BEGIN:VEVENT
DTSTART;TZID=America/Los_Angeles:20230415T120000
DTEND;TZID=America/Los_Angeles:20230415T210000
DTSTAMP:20260423T181720
CREATED:20230406T025327Z
LAST-MODIFIED:20230406T025327Z
UID:8183-1681560000-1681592400@packinghousewines.com
SUMMARY:Weekend Wine Tasting: Central Coast Reds
DESCRIPTION:
URL:https://packinghousewines.com/event/weekend-wine-tasting-central-coast-reds-2/
END:VEVENT
BEGIN:VEVENT
DTSTART;TZID=America/Los_Angeles:20230416T120000
DTEND;TZID=America/Los_Angeles:20230416T180000
DTSTAMP:20260423T181720
CREATED:20230406T025555Z
LAST-MODIFIED:20230406T025555Z
UID:8185-1681646400-1681668000@packinghousewines.com
SUMMARY:Weekend Wine Tasting: Central Coast Reds
DESCRIPTION:Upon Availability
URL:https://packinghousewines.com/event/weekend-wine-tasting-central-coast-reds-3/
END:VEVENT
BEGIN:VEVENT
DTSTART;TZID=America/Los_Angeles:20230421T170000
DTEND;TZID=America/Los_Angeles:20230421T210000
DTSTAMP:20260423T181720
CREATED:20230409T005650Z
LAST-MODIFIED:20230409T005650Z
UID:8191-1682096400-1682110800@packinghousewines.com
SUMMARY:Weekend Wine Tasting: Australian Wines
DESCRIPTION:
URL:https://packinghousewines.com/event/weekend-wine-tasting-australian-wines/
END:VEVENT
BEGIN:VEVENT
DTSTART;TZID=America/Los_Angeles:20230422T110000
DTEND;TZID=America/Los_Angeles:20230422T130000
DTSTAMP:20260423T181720
CREATED:20230406T025935Z
LAST-MODIFIED:20230406T025935Z
UID:8187-1682161200-1682168400@packinghousewines.com
SUMMARY:Wine Class: Tempranillo
DESCRIPTION:Call to book a spot in our Tempranillo 101 Wine Class. (909) 445-9463
URL:https://packinghousewines.com/event/wine-class-tempranillo/
END:VEVENT
BEGIN:VEVENT
DTSTART;TZID=America/Los_Angeles:20230422T120000
DTEND;TZID=America/Los_Angeles:20230422T210000
DTSTAMP:20260423T181720
CREATED:20230409T005720Z
LAST-MODIFIED:20230409T005720Z
UID:8193-1682164800-1682197200@packinghousewines.com
SUMMARY:Weekend Wine Tasting: Australian Wines
DESCRIPTION:
URL:https://packinghousewines.com/event/weekend-wine-tasting-australian-wines-2/
END:VEVENT
BEGIN:VEVENT
DTSTART;TZID=America/Los_Angeles:20230423T120000
DTEND;TZID=America/Los_Angeles:20230423T180000
DTSTAMP:20260423T181720
CREATED:20230409T005759Z
LAST-MODIFIED:20230409T005759Z
UID:8195-1682251200-1682272800@packinghousewines.com
SUMMARY:Weekend Wine Tasting: Australian Wines
DESCRIPTION:Upon Availability
URL:https://packinghousewines.com/event/weekend-wine-tasting-australian-wines-3/
END:VEVENT
BEGIN:VEVENT
DTSTART;TZID=America/Los_Angeles:20230428T170000
DTEND;TZID=America/Los_Angeles:20230428T210000
DTSTAMP:20260423T181720
CREATED:20230409T005839Z
LAST-MODIFIED:20230409T005839Z
UID:8197-1682701200-1682715600@packinghousewines.com
SUMMARY:Weekend Wine Tasting: Argentinian Wines
DESCRIPTION:
URL:https://packinghousewines.com/event/weekend-wine-tasting-argentinian-wines/
END:VEVENT
BEGIN:VEVENT
DTSTART;TZID=America/Los_Angeles:20230429T120000
DTEND;TZID=America/Los_Angeles:20230429T210000
DTSTAMP:20260423T181720
CREATED:20230409T005910Z
LAST-MODIFIED:20230409T005910Z
UID:8199-1682769600-1682802000@packinghousewines.com
SUMMARY:Weekend Wine Tasting: Argentinian Wines
DESCRIPTION:
URL:https://packinghousewines.com/event/weekend-wine-tasting-argentinian-wines-2/
END:VEVENT
BEGIN:VEVENT
DTSTART;TZID=America/Los_Angeles:20230430T120000
DTEND;TZID=America/Los_Angeles:20230430T180000
DTSTAMP:20260423T181720
CREATED:20230409T005934Z
LAST-MODIFIED:20230409T005934Z
UID:8201-1682856000-1682877600@packinghousewines.com
SUMMARY:Weekend Wine Tasting: Argentinian Wines
DESCRIPTION:
URL:https://packinghousewines.com/event/weekend-wine-tasting-argentinian-wines-3/
END:VEVENT
END:VCALENDAR