BEGIN:VCALENDAR
VERSION:2.0
PRODID:-//Packing House Wines - ECPv6.15.20//NONSGML v1.0//EN
CALSCALE:GREGORIAN
METHOD:PUBLISH
X-WR-CALNAME:Packing House Wines
X-ORIGINAL-URL:https://packinghousewines.com
X-WR-CALDESC:Events for Packing House Wines
REFRESH-INTERVAL;VALUE=DURATION:PT1H
X-Robots-Tag:noindex
X-PUBLISHED-TTL:PT1H
BEGIN:VTIMEZONE
TZID:America/Los_Angeles
BEGIN:DAYLIGHT
TZOFFSETFROM:-0800
TZOFFSETTO:-0700
TZNAME:PDT
DTSTART:20220313T100000
END:DAYLIGHT
BEGIN:STANDARD
TZOFFSETFROM:-0700
TZOFFSETTO:-0800
TZNAME:PST
DTSTART:20221106T090000
END:STANDARD
BEGIN:DAYLIGHT
TZOFFSETFROM:-0800
TZOFFSETTO:-0700
TZNAME:PDT
DTSTART:20230312T100000
END:DAYLIGHT
BEGIN:STANDARD
TZOFFSETFROM:-0700
TZOFFSETTO:-0800
TZNAME:PST
DTSTART:20231105T090000
END:STANDARD
BEGIN:DAYLIGHT
TZOFFSETFROM:-0800
TZOFFSETTO:-0700
TZNAME:PDT
DTSTART:20240310T100000
END:DAYLIGHT
BEGIN:STANDARD
TZOFFSETFROM:-0700
TZOFFSETTO:-0800
TZNAME:PST
DTSTART:20241103T090000
END:STANDARD
END:VTIMEZONE
BEGIN:VEVENT
DTSTART;TZID=America/Los_Angeles:20230203T170000
DTEND;TZID=America/Los_Angeles:20230203T210000
DTSTAMP:20260423T210039
CREATED:20230115T020117Z
LAST-MODIFIED:20230115T020117Z
UID:8129-1675443600-1675458000@packinghousewines.com
SUMMARY:Weekend Wine Tasting: Zinfandels
DESCRIPTION:
URL:https://packinghousewines.com/event/weekend-wine-tasting-zinfandels/
END:VEVENT
BEGIN:VEVENT
DTSTART;TZID=America/Los_Angeles:20230204T120000
DTEND;TZID=America/Los_Angeles:20230204T210000
DTSTAMP:20260423T210039
CREATED:20230115T020144Z
LAST-MODIFIED:20230115T020144Z
UID:8131-1675512000-1675544400@packinghousewines.com
SUMMARY:Weekend Wine Tasting: Zinfandels
DESCRIPTION:
URL:https://packinghousewines.com/event/weekend-wine-tasting-zinfandels-2/
END:VEVENT
BEGIN:VEVENT
DTSTART;TZID=America/Los_Angeles:20230205T120000
DTEND;TZID=America/Los_Angeles:20230205T180000
DTSTAMP:20260423T210039
CREATED:20230115T020241Z
LAST-MODIFIED:20230115T020241Z
UID:8133-1675598400-1675620000@packinghousewines.com
SUMMARY:Weekend Wine Tasting: Zinfandels
DESCRIPTION:Upon Availability 
URL:https://packinghousewines.com/event/weekend-wine-tasting-zinfandels-3/
END:VEVENT
BEGIN:VEVENT
DTSTART;TZID=America/Los_Angeles:20230210T170000
DTEND;TZID=America/Los_Angeles:20230210T210000
DTSTAMP:20260423T210039
CREATED:20230115T020455Z
LAST-MODIFIED:20230115T020455Z
UID:8139-1676048400-1676062800@packinghousewines.com
SUMMARY:Weekend Wine Tasting: Domaine Larue
DESCRIPTION:
URL:https://packinghousewines.com/event/weekend-wine-tasting-domaine-larue/
END:VEVENT
BEGIN:VEVENT
DTSTART;TZID=America/Los_Angeles:20230211T120000
DTEND;TZID=America/Los_Angeles:20230211T210000
DTSTAMP:20260423T210039
CREATED:20230115T020520Z
LAST-MODIFIED:20230115T020520Z
UID:8142-1676116800-1676149200@packinghousewines.com
SUMMARY:Weekend Wine Tasting: Domaine Larue
DESCRIPTION:
URL:https://packinghousewines.com/event/weekend-wine-tasting-domaine-larue-2/
END:VEVENT
BEGIN:VEVENT
DTSTART;TZID=America/Los_Angeles:20230212T120000
DTEND;TZID=America/Los_Angeles:20230212T180000
DTSTAMP:20260423T210039
CREATED:20230115T020551Z
LAST-MODIFIED:20230115T020551Z
UID:8144-1676203200-1676224800@packinghousewines.com
SUMMARY:Weekend Wine Tasting: Domaine Larue
DESCRIPTION:Upon Availability 
URL:https://packinghousewines.com/event/weekend-wine-tasting-domaine-larue-3/
END:VEVENT
BEGIN:VEVENT
DTSTART;TZID=America/Los_Angeles:20230217T170000
DTEND;TZID=America/Los_Angeles:20230217T213000
DTSTAMP:20260423T210039
CREATED:20230115T020644Z
LAST-MODIFIED:20230115T020644Z
UID:8146-1676653200-1676669400@packinghousewines.com
SUMMARY:Weekend Wine Tasting: Syrah & Shiraz
DESCRIPTION:
URL:https://packinghousewines.com/event/weekend-wine-tasting-syrah-shiraz/
END:VEVENT
BEGIN:VEVENT
DTSTART;TZID=America/Los_Angeles:20230218T120000
DTEND;TZID=America/Los_Angeles:20230218T210000
DTSTAMP:20260423T210039
CREATED:20230115T020714Z
LAST-MODIFIED:20230115T020714Z
UID:8148-1676721600-1676754000@packinghousewines.com
SUMMARY:Weekend Wine Tasting: Syrah & Shiraz
DESCRIPTION:
URL:https://packinghousewines.com/event/weekend-wine-tasting-syrah-shiraz-2/
END:VEVENT
BEGIN:VEVENT
DTSTART;TZID=America/Los_Angeles:20230219T120000
DTEND;TZID=America/Los_Angeles:20230219T180000
DTSTAMP:20260423T210039
CREATED:20230115T020739Z
LAST-MODIFIED:20230115T020739Z
UID:8150-1676808000-1676829600@packinghousewines.com
SUMMARY:Weekend Wine Tasting: Syrah & Shiraz
DESCRIPTION:Upon Availability 
URL:https://packinghousewines.com/event/weekend-wine-tasting-syrah-shiraz-3/
END:VEVENT
BEGIN:VEVENT
DTSTART;TZID=America/Los_Angeles:20230224T170000
DTEND;TZID=America/Los_Angeles:20230224T210000
DTSTAMP:20260423T210039
CREATED:20230115T020844Z
LAST-MODIFIED:20230115T020844Z
UID:8152-1677258000-1677272400@packinghousewines.com
SUMMARY:Weekend Wine Tasting: Southern Hemisphere Wines
DESCRIPTION:
URL:https://packinghousewines.com/event/weekend-wine-tasting-southern-hemisphere-wines-5/
END:VEVENT
BEGIN:VEVENT
DTSTART;TZID=America/Los_Angeles:20230225T120000
DTEND;TZID=America/Los_Angeles:20230225T210000
DTSTAMP:20260423T210039
CREATED:20230115T020911Z
LAST-MODIFIED:20230115T020911Z
UID:8154-1677326400-1677358800@packinghousewines.com
SUMMARY:Weekend Wine Tasting: Southern Hemisphere Wines
DESCRIPTION:
URL:https://packinghousewines.com/event/weekend-wine-tasting-southern-hemisphere-wines-6/
END:VEVENT
BEGIN:VEVENT
DTSTART;TZID=America/Los_Angeles:20230226T120000
DTEND;TZID=America/Los_Angeles:20230226T180000
DTSTAMP:20260423T210039
CREATED:20230115T020936Z
LAST-MODIFIED:20230115T020936Z
UID:8156-1677412800-1677434400@packinghousewines.com
SUMMARY:Weekend Wine Tasting: Southern Hemisphere Wines
DESCRIPTION:Upon Availability 
URL:https://packinghousewines.com/event/weekend-wine-tasting-southern-hemisphere-wines-7/
END:VEVENT
END:VCALENDAR