BEGIN:VCALENDAR
VERSION:2.0
PRODID:-//Packing House Wines - ECPv6.15.20//NONSGML v1.0//EN
CALSCALE:GREGORIAN
METHOD:PUBLISH
X-WR-CALNAME:Packing House Wines
X-ORIGINAL-URL:https://packinghousewines.com
X-WR-CALDESC:Events for Packing House Wines
REFRESH-INTERVAL;VALUE=DURATION:PT1H
X-Robots-Tag:noindex
X-PUBLISHED-TTL:PT1H
BEGIN:VTIMEZONE
TZID:America/Los_Angeles
BEGIN:DAYLIGHT
TZOFFSETFROM:-0800
TZOFFSETTO:-0700
TZNAME:PDT
DTSTART:20210314T100000
END:DAYLIGHT
BEGIN:STANDARD
TZOFFSETFROM:-0700
TZOFFSETTO:-0800
TZNAME:PST
DTSTART:20211107T090000
END:STANDARD
BEGIN:DAYLIGHT
TZOFFSETFROM:-0800
TZOFFSETTO:-0700
TZNAME:PDT
DTSTART:20220313T100000
END:DAYLIGHT
BEGIN:STANDARD
TZOFFSETFROM:-0700
TZOFFSETTO:-0800
TZNAME:PST
DTSTART:20221106T090000
END:STANDARD
BEGIN:DAYLIGHT
TZOFFSETFROM:-0800
TZOFFSETTO:-0700
TZNAME:PDT
DTSTART:20230312T100000
END:DAYLIGHT
BEGIN:STANDARD
TZOFFSETFROM:-0700
TZOFFSETTO:-0800
TZNAME:PST
DTSTART:20231105T090000
END:STANDARD
END:VTIMEZONE
BEGIN:VEVENT
DTSTART;TZID=America/Los_Angeles:20221111T170000
DTEND;TZID=America/Los_Angeles:20221111T210000
DTSTAMP:20260424T004409
CREATED:20221112T011719Z
LAST-MODIFIED:20221112T011719Z
UID:8018-1668186000-1668200400@packinghousewines.com
SUMMARY:Weekend Wine Tasting: Burgundy
DESCRIPTION:
URL:https://packinghousewines.com/event/weekend-wine-tasting-burgundy/
END:VEVENT
BEGIN:VEVENT
DTSTART;TZID=America/Los_Angeles:20221112T120000
DTEND;TZID=America/Los_Angeles:20221112T210000
DTSTAMP:20260424T004409
CREATED:20221112T011753Z
LAST-MODIFIED:20221112T011753Z
UID:8020-1668254400-1668286800@packinghousewines.com
SUMMARY:Weekend Wine Tasting: Burgundy
DESCRIPTION:
URL:https://packinghousewines.com/event/weekend-wine-tasting-burgundy-2/
END:VEVENT
BEGIN:VEVENT
DTSTART;TZID=America/Los_Angeles:20221113T120000
DTEND;TZID=America/Los_Angeles:20221113T180000
DTSTAMP:20260424T004409
CREATED:20221112T011929Z
LAST-MODIFIED:20221112T011929Z
UID:8022-1668340800-1668362400@packinghousewines.com
SUMMARY:Weekend Wine Tasting: Burgundy
DESCRIPTION:Upon Availability
URL:https://packinghousewines.com/event/weekend-wine-tasting-burgundy-3/
END:VEVENT
BEGIN:VEVENT
DTSTART;TZID=America/Los_Angeles:20221118T170000
DTEND;TZID=America/Los_Angeles:20221118T210000
DTSTAMP:20260424T004409
CREATED:20221112T012034Z
LAST-MODIFIED:20221112T012034Z
UID:8024-1668790800-1668805200@packinghousewines.com
SUMMARY:Weekend Wine Tasting: California Pinot Noirs
DESCRIPTION:
URL:https://packinghousewines.com/event/weekend-wine-tasting-california-pinot-noirs/
END:VEVENT
BEGIN:VEVENT
DTSTART;TZID=America/Los_Angeles:20221119T120000
DTEND;TZID=America/Los_Angeles:20221119T210000
DTSTAMP:20260424T004409
CREATED:20221112T012106Z
LAST-MODIFIED:20221112T012106Z
UID:8026-1668859200-1668891600@packinghousewines.com
SUMMARY:Weekend Wine Tasting: California Pinot Noirs
DESCRIPTION:
URL:https://packinghousewines.com/event/weekend-wine-tasting-california-pinot-noirs-2/
END:VEVENT
BEGIN:VEVENT
DTSTART;TZID=America/Los_Angeles:20221120T120000
DTEND;TZID=America/Los_Angeles:20221120T180000
DTSTAMP:20260424T004409
CREATED:20221112T012226Z
LAST-MODIFIED:20221112T012226Z
UID:8028-1668945600-1668967200@packinghousewines.com
SUMMARY:Weekend Wine Tasting: California Pinot Noirs
DESCRIPTION:Upon Availability
URL:https://packinghousewines.com/event/weekend-wine-tasting-california-pinot-noirs-3/
END:VEVENT
BEGIN:VEVENT
DTSTART;TZID=America/Los_Angeles:20221125T170000
DTEND;TZID=America/Los_Angeles:20221125T210000
DTSTAMP:20260424T004409
CREATED:20221112T013058Z
LAST-MODIFIED:20221112T013058Z
UID:8030-1669395600-1669410000@packinghousewines.com
SUMMARY:Weekend Wine Tasting: Cru Beaujolais
DESCRIPTION:
URL:https://packinghousewines.com/event/weekend-wine-tasting-cru-beaujolais/
END:VEVENT
BEGIN:VEVENT
DTSTART;TZID=America/Los_Angeles:20221126T120000
DTEND;TZID=America/Los_Angeles:20221126T210000
DTSTAMP:20260424T004409
CREATED:20221112T013131Z
LAST-MODIFIED:20221112T013131Z
UID:8032-1669464000-1669496400@packinghousewines.com
SUMMARY:Weekend Wine Tasting: Cru Beaujolais
DESCRIPTION:
URL:https://packinghousewines.com/event/weekend-wine-tasting-cru-beaujolais-2/
END:VEVENT
BEGIN:VEVENT
DTSTART;TZID=America/Los_Angeles:20221127T120000
DTEND;TZID=America/Los_Angeles:20221127T180000
DTSTAMP:20260424T004409
CREATED:20221112T013230Z
LAST-MODIFIED:20221112T013230Z
UID:8034-1669550400-1669572000@packinghousewines.com
SUMMARY:Weekend Wine Tasting: Cru Beaujolais
DESCRIPTION:Upon Availabilty
URL:https://packinghousewines.com/event/weekend-wine-tasting-cru-beaujolais-3/
END:VEVENT
END:VCALENDAR