BEGIN:VCALENDAR
VERSION:2.0
PRODID:-//Packing House Wines - ECPv6.15.20//NONSGML v1.0//EN
CALSCALE:GREGORIAN
METHOD:PUBLISH
X-ORIGINAL-URL:https://packinghousewines.com
X-WR-CALDESC:Events for Packing House Wines
REFRESH-INTERVAL;VALUE=DURATION:PT1H
X-Robots-Tag:noindex
X-PUBLISHED-TTL:PT1H
BEGIN:VTIMEZONE
TZID:America/Los_Angeles
BEGIN:DAYLIGHT
TZOFFSETFROM:-0800
TZOFFSETTO:-0700
TZNAME:PDT
DTSTART:20210314T100000
END:DAYLIGHT
BEGIN:STANDARD
TZOFFSETFROM:-0700
TZOFFSETTO:-0800
TZNAME:PST
DTSTART:20211107T090000
END:STANDARD
BEGIN:DAYLIGHT
TZOFFSETFROM:-0800
TZOFFSETTO:-0700
TZNAME:PDT
DTSTART:20220313T100000
END:DAYLIGHT
BEGIN:STANDARD
TZOFFSETFROM:-0700
TZOFFSETTO:-0800
TZNAME:PST
DTSTART:20221106T090000
END:STANDARD
BEGIN:DAYLIGHT
TZOFFSETFROM:-0800
TZOFFSETTO:-0700
TZNAME:PDT
DTSTART:20230312T100000
END:DAYLIGHT
BEGIN:STANDARD
TZOFFSETFROM:-0700
TZOFFSETTO:-0800
TZNAME:PST
DTSTART:20231105T090000
END:STANDARD
END:VTIMEZONE
BEGIN:VEVENT
DTSTART;TZID=America/Los_Angeles:20220902T170000
DTEND;TZID=America/Los_Angeles:20220902T210000
DTSTAMP:20260424T034028
CREATED:20220814T005538Z
LAST-MODIFIED:20220814T005538Z
UID:7966-1662138000-1662152400@packinghousewines.com
SUMMARY:Weekend Wine Tasting: Wines for Labor Day
DESCRIPTION:
URL:https://packinghousewines.com/event/weekend-wine-tasting-wines-for-labor-day/
END:VEVENT
BEGIN:VEVENT
DTSTART;TZID=America/Los_Angeles:20220903T120000
DTEND;TZID=America/Los_Angeles:20220903T210000
DTSTAMP:20260424T034028
CREATED:20220814T005606Z
LAST-MODIFIED:20220814T005606Z
UID:7968-1662206400-1662238800@packinghousewines.com
SUMMARY:Weekend Wine Tasting: Wines for Labor Day
DESCRIPTION:
URL:https://packinghousewines.com/event/weekend-wine-tasting-wines-for-labor-day-2/
END:VEVENT
BEGIN:VEVENT
DTSTART;VALUE=DATE:20220904
DTEND;VALUE=DATE:20220905
DTSTAMP:20260424T034028
CREATED:20220515T013352Z
LAST-MODIFIED:20220515T013352Z
UID:7874-1662249600-1662335999@packinghousewines.com
SUMMARY:Closed for Labor Day
DESCRIPTION:Enjoy the Holiday
URL:https://packinghousewines.com/event/closed-for-labor-day/
END:VEVENT
BEGIN:VEVENT
DTSTART;TZID=America/Los_Angeles:20220909T170000
DTEND;TZID=America/Los_Angeles:20220909T210000
DTSTAMP:20260424T034028
CREATED:20220814T005823Z
LAST-MODIFIED:20220814T005823Z
UID:7970-1662742800-1662757200@packinghousewines.com
SUMMARY:Weekend Wine Tasting: Grenache
DESCRIPTION:
URL:https://packinghousewines.com/event/weekend-wine-tasting-grenache/
END:VEVENT
BEGIN:VEVENT
DTSTART;TZID=America/Los_Angeles:20220910T120000
DTEND;TZID=America/Los_Angeles:20220910T210000
DTSTAMP:20260424T034028
CREATED:20220814T010040Z
LAST-MODIFIED:20220814T010040Z
UID:7975-1662811200-1662843600@packinghousewines.com
SUMMARY:Weekend Wine Tasting: Grenache
DESCRIPTION:
URL:https://packinghousewines.com/event/weekend-wine-tasting-grenache-3/
END:VEVENT
BEGIN:VEVENT
DTSTART;TZID=America/Los_Angeles:20220911T120000
DTEND;TZID=America/Los_Angeles:20220911T180000
DTSTAMP:20260424T034028
CREATED:20220814T005901Z
LAST-MODIFIED:20220814T005946Z
UID:7972-1662897600-1662919200@packinghousewines.com
SUMMARY:Weekend Wine Tasting: Grenache
DESCRIPTION:Upon Availability 
URL:https://packinghousewines.com/event/weekend-wine-tasting-grenache-2/
END:VEVENT
BEGIN:VEVENT
DTSTART;TZID=America/Los_Angeles:20220916T170000
DTEND;TZID=America/Los_Angeles:20220916T210000
DTSTAMP:20260424T034028
CREATED:20220814T010208Z
LAST-MODIFIED:20220814T010208Z
UID:7977-1663347600-1663362000@packinghousewines.com
SUMMARY:Weekend Wine Tasting: Hispanic Heritage
DESCRIPTION:
URL:https://packinghousewines.com/event/weekend-wine-tasting-hispanic-heritage/
END:VEVENT
BEGIN:VEVENT
DTSTART;TZID=America/Los_Angeles:20220917T110000
DTEND;TZID=America/Los_Angeles:20220917T120000
DTSTAMP:20260424T034028
CREATED:20220827T203916Z
LAST-MODIFIED:20220911T005049Z
UID:8004-1663412400-1663416000@packinghousewines.com
SUMMARY:Wine 101 Class
DESCRIPTION:Learn all about the wine!
URL:https://packinghousewines.com/event/wine-101-class/
END:VEVENT
BEGIN:VEVENT
DTSTART;TZID=America/Los_Angeles:20220917T120000
DTEND;TZID=America/Los_Angeles:20220917T210000
DTSTAMP:20260424T034028
CREATED:20220814T010230Z
LAST-MODIFIED:20220814T010230Z
UID:7979-1663416000-1663448400@packinghousewines.com
SUMMARY:Weekend Wine Tasting: Hispanic Heritage
DESCRIPTION:
URL:https://packinghousewines.com/event/weekend-wine-tasting-hispanic-heritage-2/
END:VEVENT
BEGIN:VEVENT
DTSTART;TZID=America/Los_Angeles:20220918T120000
DTEND;TZID=America/Los_Angeles:20220918T180000
DTSTAMP:20260424T034028
CREATED:20220814T010351Z
LAST-MODIFIED:20220814T010351Z
UID:7981-1663502400-1663524000@packinghousewines.com
SUMMARY:Weekend Wine Tasting: Hispanic Heritage
DESCRIPTION:Upon Availability 
URL:https://packinghousewines.com/event/weekend-wine-tasting-hispanic-heritage-3/
END:VEVENT
BEGIN:VEVENT
DTSTART;TZID=America/Los_Angeles:20220923T170000
DTEND;TZID=America/Los_Angeles:20220923T210000
DTSTAMP:20260424T034028
CREATED:20220814T010431Z
LAST-MODIFIED:20220814T010431Z
UID:7983-1663952400-1663966800@packinghousewines.com
SUMMARY:Weekend Wine Tasting: Red Blends
DESCRIPTION:
URL:https://packinghousewines.com/event/weekend-wine-tasting-red-blends-4/
END:VEVENT
BEGIN:VEVENT
DTSTART;TZID=America/Los_Angeles:20220924T120000
DTEND;TZID=America/Los_Angeles:20220924T160000
DTSTAMP:20260424T034028
CREATED:20220814T010506Z
LAST-MODIFIED:20220814T010506Z
UID:7985-1664020800-1664035200@packinghousewines.com
SUMMARY:Weekend Wine Tasting: Red Blends
DESCRIPTION:
URL:https://packinghousewines.com/event/weekend-wine-tasting-red-blends-5/
END:VEVENT
BEGIN:VEVENT
DTSTART;TZID=America/Los_Angeles:20220924T160000
DTEND;TZID=America/Los_Angeles:20220924T220000
DTSTAMP:20260424T034028
CREATED:20220814T010648Z
LAST-MODIFIED:20220814T012154Z
UID:7987-1664035200-1664056800@packinghousewines.com
SUMMARY:Closed for Dinner
DESCRIPTION:Closed for Dinner. We apologize for the inconvenience.
URL:https://packinghousewines.com/event/closed-for-dinner/
END:VEVENT
BEGIN:VEVENT
DTSTART;TZID=America/Los_Angeles:20220930T170000
DTEND;TZID=America/Los_Angeles:20220930T210000
DTSTAMP:20260424T034028
CREATED:20220814T012242Z
LAST-MODIFIED:20220827T205414Z
UID:7989-1664557200-1664571600@packinghousewines.com
SUMMARY:Weekend Wine Tasting: Bordeaux
DESCRIPTION:
URL:https://packinghousewines.com/event/weekend-wine-tasting-bordeaux/
END:VEVENT
END:VCALENDAR