BEGIN:VCALENDAR
VERSION:2.0
PRODID:-//Packing House Wines - ECPv6.15.20//NONSGML v1.0//EN
CALSCALE:GREGORIAN
METHOD:PUBLISH
X-ORIGINAL-URL:https://packinghousewines.com
X-WR-CALDESC:Events for Packing House Wines
REFRESH-INTERVAL;VALUE=DURATION:PT1H
X-Robots-Tag:noindex
X-PUBLISHED-TTL:PT1H
BEGIN:VTIMEZONE
TZID:America/Los_Angeles
BEGIN:DAYLIGHT
TZOFFSETFROM:-0800
TZOFFSETTO:-0700
TZNAME:PDT
DTSTART:20210314T100000
END:DAYLIGHT
BEGIN:STANDARD
TZOFFSETFROM:-0700
TZOFFSETTO:-0800
TZNAME:PST
DTSTART:20211107T090000
END:STANDARD
BEGIN:DAYLIGHT
TZOFFSETFROM:-0800
TZOFFSETTO:-0700
TZNAME:PDT
DTSTART:20220313T100000
END:DAYLIGHT
BEGIN:STANDARD
TZOFFSETFROM:-0700
TZOFFSETTO:-0800
TZNAME:PST
DTSTART:20221106T090000
END:STANDARD
BEGIN:DAYLIGHT
TZOFFSETFROM:-0800
TZOFFSETTO:-0700
TZNAME:PDT
DTSTART:20230312T100000
END:DAYLIGHT
BEGIN:STANDARD
TZOFFSETFROM:-0700
TZOFFSETTO:-0800
TZNAME:PST
DTSTART:20231105T090000
END:STANDARD
END:VTIMEZONE
BEGIN:VEVENT
DTSTART;TZID=America/Los_Angeles:20220805T170000
DTEND;TZID=America/Los_Angeles:20220805T210000
DTSTAMP:20260424T045128
CREATED:20220723T005843Z
LAST-MODIFIED:20220723T005843Z
UID:7927-1659718800-1659733200@packinghousewines.com
SUMMARY:Weekend Wine Tasting: European Whites
DESCRIPTION:
URL:https://packinghousewines.com/event/weekend-wine-tasting-european-whites-4/
END:VEVENT
BEGIN:VEVENT
DTSTART;TZID=America/Los_Angeles:20220806T120000
DTEND;TZID=America/Los_Angeles:20220806T210000
DTSTAMP:20260424T045128
CREATED:20220723T005907Z
LAST-MODIFIED:20220723T005907Z
UID:7929-1659787200-1659819600@packinghousewines.com
SUMMARY:Weekend Wine Tasting: European Whites
DESCRIPTION:
URL:https://packinghousewines.com/event/weekend-wine-tasting-european-whites-5/
END:VEVENT
BEGIN:VEVENT
DTSTART;TZID=America/Los_Angeles:20220807T120000
DTEND;TZID=America/Los_Angeles:20220807T180000
DTSTAMP:20260424T045128
CREATED:20220723T010820Z
LAST-MODIFIED:20220723T010820Z
UID:7931-1659873600-1659895200@packinghousewines.com
SUMMARY:Weekend Wine Tasting: European Whites
DESCRIPTION:Upon Availability 
URL:https://packinghousewines.com/event/weekend-wine-tasting-european-whites-6/
END:VEVENT
BEGIN:VEVENT
DTSTART;TZID=America/Los_Angeles:20220812T170000
DTEND;TZID=America/Los_Angeles:20220812T210000
DTSTAMP:20260424T045128
CREATED:20220723T010908Z
LAST-MODIFIED:20220723T010908Z
UID:7933-1660323600-1660338000@packinghousewines.com
SUMMARY:Weekend Wine Tasting: High Acid\, Dry Wines
DESCRIPTION: 
URL:https://packinghousewines.com/event/weekend-wine-tasting-high-acid-dry-wines/
END:VEVENT
BEGIN:VEVENT
DTSTART;TZID=America/Los_Angeles:20220813T120000
DTEND;TZID=America/Los_Angeles:20220813T210000
DTSTAMP:20260424T045128
CREATED:20220723T010934Z
LAST-MODIFIED:20220723T011239Z
UID:7935-1660392000-1660424400@packinghousewines.com
SUMMARY:Weekend Wine Tasting: High Acid\, Dry Wines
DESCRIPTION: 
URL:https://packinghousewines.com/event/weekend-wine-tasting-high-acid-dry-wines-2/
END:VEVENT
BEGIN:VEVENT
DTSTART;TZID=America/Los_Angeles:20220814T120000
DTEND;TZID=America/Los_Angeles:20220814T180000
DTSTAMP:20260424T045128
CREATED:20220723T011337Z
LAST-MODIFIED:20220723T011337Z
UID:7937-1660478400-1660500000@packinghousewines.com
SUMMARY:Weekend Wine Tasting: High Acid\, Dry Wines
DESCRIPTION: Upon Availability 
URL:https://packinghousewines.com/event/weekend-wine-tasting-high-acid-dry-wines-3/
END:VEVENT
BEGIN:VEVENT
DTSTART;TZID=America/Los_Angeles:20220819T170000
DTEND;TZID=America/Los_Angeles:20220819T210000
DTSTAMP:20260424T045128
CREATED:20220723T011441Z
LAST-MODIFIED:20220807T213927Z
UID:7939-1660928400-1660942800@packinghousewines.com
SUMMARY:Weekend Wine Tasting: Tempranillo
DESCRIPTION:
URL:https://packinghousewines.com/event/weekend-wine-tasting-j-wilkes-winery/
END:VEVENT
BEGIN:VEVENT
DTSTART;TZID=America/Los_Angeles:20220820T120000
DTEND;TZID=America/Los_Angeles:20220820T210000
DTSTAMP:20260424T045128
CREATED:20220723T011507Z
LAST-MODIFIED:20220807T214127Z
UID:7941-1660996800-1661029200@packinghousewines.com
SUMMARY:Weekend Wine Tasting: Tempranillo
DESCRIPTION:
URL:https://packinghousewines.com/event/weekend-wine-tasting-j-wilkes-winery-2/
END:VEVENT
BEGIN:VEVENT
DTSTART;TZID=America/Los_Angeles:20220821T120000
DTEND;TZID=America/Los_Angeles:20220821T180000
DTSTAMP:20260424T045128
CREATED:20220723T011537Z
LAST-MODIFIED:20220807T214158Z
UID:7943-1661083200-1661104800@packinghousewines.com
SUMMARY:Weekend Wine Tasting: Tempranillo
DESCRIPTION:Upon Availability 
URL:https://packinghousewines.com/event/weekend-wine-tasting-j-wilkes-winery-3/
END:VEVENT
BEGIN:VEVENT
DTSTART;TZID=America/Los_Angeles:20220826T170000
DTEND;TZID=America/Los_Angeles:20220826T210000
DTSTAMP:20260424T045128
CREATED:20220723T011613Z
LAST-MODIFIED:20220723T011613Z
UID:7945-1661533200-1661547600@packinghousewines.com
SUMMARY:Weekend Wine Tasting: Pinot Noirs
DESCRIPTION:
URL:https://packinghousewines.com/event/weekend-wine-tasting-pinot-noirs-4/
END:VEVENT
BEGIN:VEVENT
DTSTART;TZID=America/Los_Angeles:20220827T120000
DTEND;TZID=America/Los_Angeles:20220827T210000
DTSTAMP:20260424T045128
CREATED:20220723T011635Z
LAST-MODIFIED:20220723T011635Z
UID:7947-1661601600-1661634000@packinghousewines.com
SUMMARY:Weekend Wine Tasting: Pinot Noirs
DESCRIPTION:
URL:https://packinghousewines.com/event/weekend-wine-tasting-pinot-noirs-5/
END:VEVENT
BEGIN:VEVENT
DTSTART;TZID=America/Los_Angeles:20220828T120000
DTEND;TZID=America/Los_Angeles:20220828T180000
DTSTAMP:20260424T045128
CREATED:20220723T012035Z
LAST-MODIFIED:20220723T012035Z
UID:7951-1661688000-1661709600@packinghousewines.com
SUMMARY:Weekend Wine Tasting: Pinot Noirs
DESCRIPTION:Upon Availability 
URL:https://packinghousewines.com/event/weekend-wine-tasting-pinot-noirs-6/
END:VEVENT
END:VCALENDAR