BEGIN:VCALENDAR
VERSION:2.0
PRODID:-//Packing House Wines - ECPv6.15.20//NONSGML v1.0//EN
CALSCALE:GREGORIAN
METHOD:PUBLISH
X-ORIGINAL-URL:https://packinghousewines.com
X-WR-CALDESC:Events for Packing House Wines
REFRESH-INTERVAL;VALUE=DURATION:PT1H
X-Robots-Tag:noindex
X-PUBLISHED-TTL:PT1H
BEGIN:VTIMEZONE
TZID:America/Los_Angeles
BEGIN:DAYLIGHT
TZOFFSETFROM:-0800
TZOFFSETTO:-0700
TZNAME:PDT
DTSTART:20210314T100000
END:DAYLIGHT
BEGIN:STANDARD
TZOFFSETFROM:-0700
TZOFFSETTO:-0800
TZNAME:PST
DTSTART:20211107T090000
END:STANDARD
BEGIN:DAYLIGHT
TZOFFSETFROM:-0800
TZOFFSETTO:-0700
TZNAME:PDT
DTSTART:20220313T100000
END:DAYLIGHT
BEGIN:STANDARD
TZOFFSETFROM:-0700
TZOFFSETTO:-0800
TZNAME:PST
DTSTART:20221106T090000
END:STANDARD
BEGIN:DAYLIGHT
TZOFFSETFROM:-0800
TZOFFSETTO:-0700
TZNAME:PDT
DTSTART:20230312T100000
END:DAYLIGHT
BEGIN:STANDARD
TZOFFSETFROM:-0700
TZOFFSETTO:-0800
TZNAME:PST
DTSTART:20231105T090000
END:STANDARD
END:VTIMEZONE
BEGIN:VEVENT
DTSTART;TZID=America/Los_Angeles:20220603T120000
DTEND;TZID=America/Los_Angeles:20220603T210000
DTSTAMP:20260424T074047
CREATED:20220507T235513Z
LAST-MODIFIED:20220507T235513Z
UID:7839-1654257600-1654290000@packinghousewines.com
SUMMARY:Weekend Wine Tasting: Spanish Wines
DESCRIPTION:
URL:https://packinghousewines.com/event/weekend-wine-tasting-spanish-wines-7/
END:VEVENT
BEGIN:VEVENT
DTSTART;TZID=America/Los_Angeles:20220604T120000
DTEND;TZID=America/Los_Angeles:20220604T210000
DTSTAMP:20260424T074047
CREATED:20220507T235536Z
LAST-MODIFIED:20220507T235536Z
UID:7841-1654344000-1654376400@packinghousewines.com
SUMMARY:Weekend Wine Tasting: Spanish Wines
DESCRIPTION:
URL:https://packinghousewines.com/event/weekend-wine-tasting-spanish-wines-8/
END:VEVENT
BEGIN:VEVENT
DTSTART;TZID=America/Los_Angeles:20220605T120000
DTEND;TZID=America/Los_Angeles:20220605T170000
DTSTAMP:20260424T074047
CREATED:20220507T235951Z
LAST-MODIFIED:20220507T235951Z
UID:7843-1654430400-1654448400@packinghousewines.com
SUMMARY:Weekend Wine Tasting: Spanish Wines
DESCRIPTION:
URL:https://packinghousewines.com/event/weekend-wine-tasting-spanish-wines-9/
END:VEVENT
BEGIN:VEVENT
DTSTART;TZID=America/Los_Angeles:20220610T170000
DTEND;TZID=America/Los_Angeles:20220610T210000
DTSTAMP:20260424T074047
CREATED:20220508T000121Z
LAST-MODIFIED:20220508T000121Z
UID:7845-1654880400-1654894800@packinghousewines.com
SUMMARY:Weekend Wine Tasting: Ojai Vineyard Winery
DESCRIPTION:
URL:https://packinghousewines.com/event/weekend-wine-tasting-ojai-vineyard-winery/
END:VEVENT
BEGIN:VEVENT
DTSTART;TZID=America/Los_Angeles:20220611T120000
DTEND;TZID=America/Los_Angeles:20220611T210000
DTSTAMP:20260424T074047
CREATED:20220508T000749Z
LAST-MODIFIED:20220508T001252Z
UID:7847-1654948800-1654981200@packinghousewines.com
SUMMARY:Weekend Wine Tasting: Ojai Vineyard Winery
DESCRIPTION:
URL:https://packinghousewines.com/event/weekend-wine-tasting-ojai-vineyard-winery-2/
END:VEVENT
BEGIN:VEVENT
DTSTART;TZID=America/Los_Angeles:20220612T120000
DTEND;TZID=America/Los_Angeles:20220612T170000
DTSTAMP:20260424T074047
CREATED:20220508T001735Z
LAST-MODIFIED:20220508T001735Z
UID:7849-1655035200-1655053200@packinghousewines.com
SUMMARY:Weekend Wine Tasting: Ojai Vineyard Winery
DESCRIPTION:Upon Availability
URL:https://packinghousewines.com/event/weekend-wine-tasting-ojai-vineyard-winery-3/
END:VEVENT
BEGIN:VEVENT
DTSTART;TZID=America/Los_Angeles:20220617T170000
DTEND;TZID=America/Los_Angeles:20220617T210000
DTSTAMP:20260424T074047
CREATED:20220508T001815Z
LAST-MODIFIED:20220508T001815Z
UID:7851-1655485200-1655499600@packinghousewines.com
SUMMARY:Weekend Wine Tasting: Cabs for Dads
DESCRIPTION:
URL:https://packinghousewines.com/event/weekend-wine-tasting-cabs-for-dads-2/
END:VEVENT
BEGIN:VEVENT
DTSTART;TZID=America/Los_Angeles:20220618T120000
DTEND;TZID=America/Los_Angeles:20220618T210000
DTSTAMP:20260424T074047
CREATED:20220508T001839Z
LAST-MODIFIED:20220508T001839Z
UID:7853-1655553600-1655586000@packinghousewines.com
SUMMARY:Weekend Wine Tasting: Cabs for Dads
DESCRIPTION:
URL:https://packinghousewines.com/event/weekend-wine-tasting-cabs-for-dads-3/
END:VEVENT
BEGIN:VEVENT
DTSTART;TZID=America/Los_Angeles:20220619T120000
DTEND;TZID=America/Los_Angeles:20220619T170000
DTSTAMP:20260424T074047
CREATED:20220508T002334Z
LAST-MODIFIED:20220508T002334Z
UID:7855-1655640000-1655658000@packinghousewines.com
SUMMARY:Weekend Wine Tasting: Cabs for Dads
DESCRIPTION:Upon Availability 
URL:https://packinghousewines.com/event/weekend-wine-tasting-cabs-for-dads-4/
END:VEVENT
BEGIN:VEVENT
DTSTART;TZID=America/Los_Angeles:20220624T170000
DTEND;TZID=America/Los_Angeles:20220624T210000
DTSTAMP:20260424T074047
CREATED:20220508T002416Z
LAST-MODIFIED:20220619T000813Z
UID:7857-1656090000-1656104400@packinghousewines.com
SUMMARY:Weekend Wine Tasting: Syrahs and Friends
DESCRIPTION:
URL:https://packinghousewines.com/event/weekend-wine-tasting-chablis-4/
END:VEVENT
BEGIN:VEVENT
DTSTART;TZID=America/Los_Angeles:20220625T120000
DTEND;TZID=America/Los_Angeles:20220625T210000
DTSTAMP:20260424T074047
CREATED:20220508T002649Z
LAST-MODIFIED:20220619T000835Z
UID:7863-1656158400-1656190800@packinghousewines.com
SUMMARY:Weekend Wine Tasting: Syrahs and Friends
DESCRIPTION:
URL:https://packinghousewines.com/event/weekend-wine-tasting-chablis-6/
END:VEVENT
BEGIN:VEVENT
DTSTART;TZID=America/Los_Angeles:20220626T120000
DTEND;TZID=America/Los_Angeles:20220626T180000
DTSTAMP:20260424T074047
CREATED:20220508T002441Z
LAST-MODIFIED:20220619T000900Z
UID:7859-1656244800-1656266400@packinghousewines.com
SUMMARY:Weekend Wine Tasting: Syrahs and Friends
DESCRIPTION:Upon Availability 
URL:https://packinghousewines.com/event/weekend-wine-tasting-chablis-5/
END:VEVENT
END:VCALENDAR