BEGIN:VCALENDAR
VERSION:2.0
PRODID:-//Packing House Wines - ECPv6.15.20//NONSGML v1.0//EN
CALSCALE:GREGORIAN
METHOD:PUBLISH
X-WR-CALNAME:Packing House Wines
X-ORIGINAL-URL:https://packinghousewines.com
X-WR-CALDESC:Events for Packing House Wines
REFRESH-INTERVAL;VALUE=DURATION:PT1H
X-Robots-Tag:noindex
X-PUBLISHED-TTL:PT1H
BEGIN:VTIMEZONE
TZID:America/Los_Angeles
BEGIN:DAYLIGHT
TZOFFSETFROM:-0800
TZOFFSETTO:-0700
TZNAME:PDT
DTSTART:20210314T100000
END:DAYLIGHT
BEGIN:STANDARD
TZOFFSETFROM:-0700
TZOFFSETTO:-0800
TZNAME:PST
DTSTART:20211107T090000
END:STANDARD
BEGIN:DAYLIGHT
TZOFFSETFROM:-0800
TZOFFSETTO:-0700
TZNAME:PDT
DTSTART:20220313T100000
END:DAYLIGHT
BEGIN:STANDARD
TZOFFSETFROM:-0700
TZOFFSETTO:-0800
TZNAME:PST
DTSTART:20221106T090000
END:STANDARD
BEGIN:DAYLIGHT
TZOFFSETFROM:-0800
TZOFFSETTO:-0700
TZNAME:PDT
DTSTART:20230312T100000
END:DAYLIGHT
BEGIN:STANDARD
TZOFFSETFROM:-0700
TZOFFSETTO:-0800
TZNAME:PST
DTSTART:20231105T090000
END:STANDARD
END:VTIMEZONE
BEGIN:VEVENT
DTSTART;TZID=America/Los_Angeles:20220501T120000
DTEND;TZID=America/Los_Angeles:20220501T180000
DTSTAMP:20260424T085433
CREATED:20220416T234520Z
LAST-MODIFIED:20220416T234520Z
UID:7809-1651406400-1651428000@packinghousewines.com
SUMMARY:Weekend Wine Tasting: Neal Family Wines
DESCRIPTION:Upon Availability 
URL:https://packinghousewines.com/event/weekend-wine-tasting-neal-family-wines-3/
END:VEVENT
BEGIN:VEVENT
DTSTART;TZID=America/Los_Angeles:20220506T170000
DTEND;TZID=America/Los_Angeles:20220506T210000
DTSTAMP:20260424T085433
CREATED:20220507T234540Z
LAST-MODIFIED:20220507T234540Z
UID:7815-1651856400-1651870800@packinghousewines.com
SUMMARY:Weekend Wine Tasting: Rose & Bubbles
DESCRIPTION:
URL:https://packinghousewines.com/event/weekend-wine-tasting-rose-bubbles/
END:VEVENT
BEGIN:VEVENT
DTSTART;TZID=America/Los_Angeles:20220507T120000
DTEND;TZID=America/Los_Angeles:20220507T210000
DTSTAMP:20260424T085433
CREATED:20220507T234604Z
LAST-MODIFIED:20220507T234604Z
UID:7817-1651924800-1651957200@packinghousewines.com
SUMMARY:Weekend Wine Tasting: Rose & Bubbles
DESCRIPTION:
URL:https://packinghousewines.com/event/weekend-wine-tasting-rose-bubbles-2/
END:VEVENT
BEGIN:VEVENT
DTSTART;TZID=America/Los_Angeles:20220508T120000
DTEND;TZID=America/Los_Angeles:20220508T170000
DTSTAMP:20260424T085433
CREATED:20220507T234700Z
LAST-MODIFIED:20220507T234700Z
UID:7819-1652011200-1652029200@packinghousewines.com
SUMMARY:Weekend Wine Tasting: Rose & Bubbles
DESCRIPTION:Upon Availability 
URL:https://packinghousewines.com/event/weekend-wine-tasting-rose-bubbles-3/
END:VEVENT
BEGIN:VEVENT
DTSTART;TZID=America/Los_Angeles:20220513T170000
DTEND;TZID=America/Los_Angeles:20220513T210000
DTSTAMP:20260424T085433
CREATED:20220507T234933Z
LAST-MODIFIED:20220508T002715Z
UID:7827-1652461200-1652475600@packinghousewines.com
SUMMARY:Weekend Wine Tasting: Wines from the Right Bank
DESCRIPTION:
URL:https://packinghousewines.com/event/weekend-wine-tasting-wines-from-the-right-bank-3/
END:VEVENT
BEGIN:VEVENT
DTSTART;TZID=America/Los_Angeles:20220514T120000
DTEND;TZID=America/Los_Angeles:20220514T210000
DTSTAMP:20260424T085433
CREATED:20220507T234957Z
LAST-MODIFIED:20220508T003245Z
UID:7829-1652529600-1652562000@packinghousewines.com
SUMMARY:Weekend Wine Tasting: Wines from the Right Bank
DESCRIPTION:
URL:https://packinghousewines.com/event/weekend-wine-tasting-wines-from-the-right-bank-4/
END:VEVENT
BEGIN:VEVENT
DTSTART;TZID=America/Los_Angeles:20220515T120000
DTEND;TZID=America/Los_Angeles:20220515T170000
DTSTAMP:20260424T085433
CREATED:20220507T235032Z
LAST-MODIFIED:20220508T003225Z
UID:7831-1652616000-1652634000@packinghousewines.com
SUMMARY:Weekend Wine Tasting: Wines from the Right Bank
DESCRIPTION:Upon Availability 
URL:https://packinghousewines.com/event/weekend-wine-tasting-wines-from-the-right-bank-5/
END:VEVENT
BEGIN:VEVENT
DTSTART;TZID=America/Los_Angeles:20220520T170000
DTEND;TZID=America/Los_Angeles:20220520T210000
DTSTAMP:20260424T085433
CREATED:20220507T234744Z
LAST-MODIFIED:20220508T003420Z
UID:7821-1653066000-1653080400@packinghousewines.com
SUMMARY:Weekend Wine Tasting: Wines from the Left Bank
DESCRIPTION:
URL:https://packinghousewines.com/event/weekend-wine-tasting-wines-from-the-left-bank-2/
END:VEVENT
BEGIN:VEVENT
DTSTART;TZID=America/Los_Angeles:20220521T120000
DTEND;TZID=America/Los_Angeles:20220521T210000
DTSTAMP:20260424T085433
CREATED:20220507T234809Z
LAST-MODIFIED:20220508T003324Z
UID:7823-1653134400-1653166800@packinghousewines.com
SUMMARY:Weekend Wine Tasting: Wines from the Left Bank
DESCRIPTION:
URL:https://packinghousewines.com/event/weekend-wine-tasting-wines-from-the-left-bank-3/
END:VEVENT
BEGIN:VEVENT
DTSTART;TZID=America/Los_Angeles:20220522T120000
DTEND;TZID=America/Los_Angeles:20220522T170000
DTSTAMP:20260424T085433
CREATED:20220507T234842Z
LAST-MODIFIED:20220508T003359Z
UID:7825-1653220800-1653238800@packinghousewines.com
SUMMARY:Weekend Wine Tasting: Wines from the Left Bank
DESCRIPTION:Upon Availability 
URL:https://packinghousewines.com/event/weekend-wine-tasting-wines-from-the-left-bank-4/
END:VEVENT
BEGIN:VEVENT
DTSTART;TZID=America/Los_Angeles:20220527T170000
DTEND;TZID=America/Los_Angeles:20220527T210000
DTSTAMP:20260424T085433
CREATED:20220507T235141Z
LAST-MODIFIED:20220507T235141Z
UID:7833-1653670800-1653685200@packinghousewines.com
SUMMARY:Weekend Wine Tasting: Memorial Weekend Wines
DESCRIPTION:
URL:https://packinghousewines.com/event/weekend-wine-tasting-memorial-weekend-wines/
END:VEVENT
BEGIN:VEVENT
DTSTART;TZID=America/Los_Angeles:20220528T120000
DTEND;TZID=America/Los_Angeles:20220528T210000
DTSTAMP:20260424T085433
CREATED:20220507T235341Z
LAST-MODIFIED:20220507T235341Z
UID:7835-1653739200-1653771600@packinghousewines.com
SUMMARY:Weekend Wine Tasting: Memorial Weekend Wines
DESCRIPTION:
URL:https://packinghousewines.com/event/weekend-wine-tasting-memorial-weekend-wines-2/
END:VEVENT
BEGIN:VEVENT
DTSTART;TZID=America/Los_Angeles:20220529T120000
DTEND;TZID=America/Los_Angeles:20220529T170000
DTSTAMP:20260424T085433
CREATED:20220507T235433Z
LAST-MODIFIED:20220507T235433Z
UID:7837-1653825600-1653843600@packinghousewines.com
SUMMARY:Weekend Wine Tasting: Memorial Weekend Wines
DESCRIPTION:Upon Availability 
URL:https://packinghousewines.com/event/weekend-wine-tasting-memorial-weekend-wines-3/
END:VEVENT
END:VCALENDAR