BEGIN:VCALENDAR
VERSION:2.0
PRODID:-//Packing House Wines - ECPv6.15.20//NONSGML v1.0//EN
CALSCALE:GREGORIAN
METHOD:PUBLISH
X-WR-CALNAME:Packing House Wines
X-ORIGINAL-URL:https://packinghousewines.com
X-WR-CALDESC:Events for Packing House Wines
REFRESH-INTERVAL;VALUE=DURATION:PT1H
X-Robots-Tag:noindex
X-PUBLISHED-TTL:PT1H
BEGIN:VTIMEZONE
TZID:America/Los_Angeles
BEGIN:DAYLIGHT
TZOFFSETFROM:-0800
TZOFFSETTO:-0700
TZNAME:PDT
DTSTART:20210314T100000
END:DAYLIGHT
BEGIN:STANDARD
TZOFFSETFROM:-0700
TZOFFSETTO:-0800
TZNAME:PST
DTSTART:20211107T090000
END:STANDARD
BEGIN:DAYLIGHT
TZOFFSETFROM:-0800
TZOFFSETTO:-0700
TZNAME:PDT
DTSTART:20220313T100000
END:DAYLIGHT
BEGIN:STANDARD
TZOFFSETFROM:-0700
TZOFFSETTO:-0800
TZNAME:PST
DTSTART:20221106T090000
END:STANDARD
BEGIN:DAYLIGHT
TZOFFSETFROM:-0800
TZOFFSETTO:-0700
TZNAME:PDT
DTSTART:20230312T100000
END:DAYLIGHT
BEGIN:STANDARD
TZOFFSETFROM:-0700
TZOFFSETTO:-0800
TZNAME:PST
DTSTART:20231105T090000
END:STANDARD
END:VTIMEZONE
BEGIN:VEVENT
DTSTART;TZID=America/Los_Angeles:20220401T170000
DTEND;TZID=America/Los_Angeles:20220401T210000
DTSTAMP:20260424T101936
CREATED:20220330T031828Z
LAST-MODIFIED:20220330T031828Z
UID:7733-1648832400-1648846800@packinghousewines.com
SUMMARY:Weekend Wine Tasting: Italian Wines
DESCRIPTION:
URL:https://packinghousewines.com/event/weekend-wine-tasting-italian-wines/
END:VEVENT
BEGIN:VEVENT
DTSTART;TZID=America/Los_Angeles:20220402T120000
DTEND;TZID=America/Los_Angeles:20220402T210000
DTSTAMP:20260424T101936
CREATED:20220330T031908Z
LAST-MODIFIED:20220330T031908Z
UID:7735-1648900800-1648933200@packinghousewines.com
SUMMARY:Weekend Wine Tasting: Italian Wines
DESCRIPTION:
URL:https://packinghousewines.com/event/weekend-wine-tasting-italian-wines-2/
END:VEVENT
BEGIN:VEVENT
DTSTART;TZID=America/Los_Angeles:20220403T120000
DTEND;TZID=America/Los_Angeles:20220403T180000
DTSTAMP:20260424T101936
CREATED:20220330T031952Z
LAST-MODIFIED:20220330T031952Z
UID:7737-1648987200-1649008800@packinghousewines.com
SUMMARY:Weekend Wine Tasting: Italian Wines
DESCRIPTION:Upon Availability
URL:https://packinghousewines.com/event/weekend-wine-tasting-italian-wines-3/
END:VEVENT
BEGIN:VEVENT
DTSTART;TZID=America/Los_Angeles:20220408T170000
DTEND;TZID=America/Los_Angeles:20220408T210000
DTSTAMP:20260424T101936
CREATED:20220330T032025Z
LAST-MODIFIED:20220330T032025Z
UID:7739-1649437200-1649451600@packinghousewines.com
SUMMARY:Weekend Wine Tasting: Pinot Noir
DESCRIPTION:
URL:https://packinghousewines.com/event/weekend-wine-tasting-pinot-noir/
END:VEVENT
BEGIN:VEVENT
DTSTART;TZID=America/Los_Angeles:20220409T120000
DTEND;TZID=America/Los_Angeles:20220409T210000
DTSTAMP:20260424T101936
CREATED:20220330T032056Z
LAST-MODIFIED:20220330T032056Z
UID:7741-1649505600-1649538000@packinghousewines.com
SUMMARY:Weekend Wine Tasting: Pinot Noir
DESCRIPTION:
URL:https://packinghousewines.com/event/weekend-wine-tasting-pinot-noir-2/
END:VEVENT
BEGIN:VEVENT
DTSTART;TZID=America/Los_Angeles:20220410T120000
DTEND;TZID=America/Los_Angeles:20220410T180000
DTSTAMP:20260424T101936
CREATED:20220330T032138Z
LAST-MODIFIED:20220330T032138Z
UID:7743-1649592000-1649613600@packinghousewines.com
SUMMARY:Weekend Wine Tasting: Pinot Noir
DESCRIPTION:Upon Availability
URL:https://packinghousewines.com/event/weekend-wine-tasting-pinot-noir-3/
END:VEVENT
BEGIN:VEVENT
DTSTART;TZID=America/Los_Angeles:20220415T170000
DTEND;TZID=America/Los_Angeles:20220415T210000
DTSTAMP:20260424T101936
CREATED:20220416T233433Z
LAST-MODIFIED:20220416T233433Z
UID:7791-1650042000-1650056400@packinghousewines.com
SUMMARY:Weekend Wine Tasting: Wine for Easter
DESCRIPTION:
URL:https://packinghousewines.com/event/weekend-wine-tasting-wine-for-easter/
END:VEVENT
BEGIN:VEVENT
DTSTART;TZID=America/Los_Angeles:20220416T120000
DTEND;TZID=America/Los_Angeles:20220416T210000
DTSTAMP:20260424T101936
CREATED:20220416T233459Z
LAST-MODIFIED:20220416T233459Z
UID:7793-1650110400-1650142800@packinghousewines.com
SUMMARY:Weekend Wine Tasting: Wine for Easter
DESCRIPTION:
URL:https://packinghousewines.com/event/weekend-wine-tasting-wine-for-easter-2/
END:VEVENT
BEGIN:VEVENT
DTSTART;VALUE=DATE:20220417
DTEND;VALUE=DATE:20220418
DTSTAMP:20260424T101936
CREATED:20220416T233527Z
LAST-MODIFIED:20220416T233527Z
UID:7795-1650153600-1650239999@packinghousewines.com
SUMMARY:Closed for Easter
DESCRIPTION:
URL:https://packinghousewines.com/event/closed-for-easter/
END:VEVENT
BEGIN:VEVENT
DTSTART;TZID=America/Los_Angeles:20220422T170000
DTEND;TZID=America/Los_Angeles:20220422T210000
DTSTAMP:20260424T101936
CREATED:20220416T233605Z
LAST-MODIFIED:20220416T233715Z
UID:7797-1650646800-1650661200@packinghousewines.com
SUMMARY:Weekend Wine Tasting: Wines from Argentina
DESCRIPTION:
URL:https://packinghousewines.com/event/weekend-wine-tasting-wines-from-argentina/
END:VEVENT
BEGIN:VEVENT
DTSTART;TZID=America/Los_Angeles:20220423T120000
DTEND;TZID=America/Los_Angeles:20220423T210000
DTSTAMP:20260424T101936
CREATED:20220416T233739Z
LAST-MODIFIED:20220416T233739Z
UID:7799-1650715200-1650747600@packinghousewines.com
SUMMARY:Weekend Wine Tasting: Wines from Argentina
DESCRIPTION:
URL:https://packinghousewines.com/event/weekend-wine-tasting-wines-from-argentina-2/
END:VEVENT
BEGIN:VEVENT
DTSTART;TZID=America/Los_Angeles:20220424T120000
DTEND;TZID=America/Los_Angeles:20220424T180000
DTSTAMP:20260424T101936
CREATED:20220416T233817Z
LAST-MODIFIED:20220416T233817Z
UID:7801-1650801600-1650823200@packinghousewines.com
SUMMARY:Weekend Wine Tasting: Wines from Argentina
DESCRIPTION:Upon Availability 
URL:https://packinghousewines.com/event/weekend-wine-tasting-wines-from-argentina-3/
END:VEVENT
BEGIN:VEVENT
DTSTART;TZID=America/Los_Angeles:20220429T170000
DTEND;TZID=America/Los_Angeles:20220429T210000
DTSTAMP:20260424T101936
CREATED:20220416T234410Z
LAST-MODIFIED:20220416T234410Z
UID:7805-1651251600-1651266000@packinghousewines.com
SUMMARY:Weekend Wine Tasting: Neal Family Wines
DESCRIPTION:
URL:https://packinghousewines.com/event/weekend-wine-tasting-neal-family-wines/
END:VEVENT
BEGIN:VEVENT
DTSTART;VALUE=DATE:20220430
DTEND;VALUE=DATE:20220501
DTSTAMP:20260424T101936
CREATED:20220416T234330Z
LAST-MODIFIED:20220416T234604Z
UID:7803-1651276800-1651363199@packinghousewines.com
SUMMARY:15 Year Anniversary Celebration
DESCRIPTION:Live Music\, Silent Auction\, Neal Family Wine Tasting\, Reservation Strongly Encouraged 
URL:https://packinghousewines.com/event/15-year-anniversary-celebration/
END:VEVENT
BEGIN:VEVENT
DTSTART;TZID=America/Los_Angeles:20220430T120000
DTEND;TZID=America/Los_Angeles:20220430T210000
DTSTAMP:20260424T101936
CREATED:20220416T234440Z
LAST-MODIFIED:20220416T234440Z
UID:7807-1651320000-1651352400@packinghousewines.com
SUMMARY:Weekend Wine Tasting: Neal Family Wines
DESCRIPTION:
URL:https://packinghousewines.com/event/weekend-wine-tasting-neal-family-wines-2/
END:VEVENT
END:VCALENDAR