BEGIN:VCALENDAR
VERSION:2.0
PRODID:-//Packing House Wines - ECPv6.15.20//NONSGML v1.0//EN
CALSCALE:GREGORIAN
METHOD:PUBLISH
X-ORIGINAL-URL:https://packinghousewines.com
X-WR-CALDESC:Events for Packing House Wines
REFRESH-INTERVAL;VALUE=DURATION:PT1H
X-Robots-Tag:noindex
X-PUBLISHED-TTL:PT1H
BEGIN:VTIMEZONE
TZID:America/Los_Angeles
BEGIN:DAYLIGHT
TZOFFSETFROM:-0800
TZOFFSETTO:-0700
TZNAME:PDT
DTSTART:20210314T100000
END:DAYLIGHT
BEGIN:STANDARD
TZOFFSETFROM:-0700
TZOFFSETTO:-0800
TZNAME:PST
DTSTART:20211107T090000
END:STANDARD
BEGIN:DAYLIGHT
TZOFFSETFROM:-0800
TZOFFSETTO:-0700
TZNAME:PDT
DTSTART:20220313T100000
END:DAYLIGHT
BEGIN:STANDARD
TZOFFSETFROM:-0700
TZOFFSETTO:-0800
TZNAME:PST
DTSTART:20221106T090000
END:STANDARD
BEGIN:DAYLIGHT
TZOFFSETFROM:-0800
TZOFFSETTO:-0700
TZNAME:PDT
DTSTART:20230312T100000
END:DAYLIGHT
BEGIN:STANDARD
TZOFFSETFROM:-0700
TZOFFSETTO:-0800
TZNAME:PST
DTSTART:20231105T090000
END:STANDARD
END:VTIMEZONE
BEGIN:VEVENT
DTSTART;TZID=America/Los_Angeles:20220204T170000
DTEND;TZID=America/Los_Angeles:20220204T210000
DTSTAMP:20260424T125410
CREATED:20220123T214811Z
LAST-MODIFIED:20220123T214811Z
UID:7644-1643994000-1644008400@packinghousewines.com
SUMMARY:Weekend Wine Tasting: Southern Hemisphere Wines
DESCRIPTION:
URL:https://packinghousewines.com/event/weekend-wine-tasting-southern-hemisphere-wines-2/
END:VEVENT
BEGIN:VEVENT
DTSTART;TZID=America/Los_Angeles:20220205T120000
DTEND;TZID=America/Los_Angeles:20220205T210000
DTSTAMP:20260424T125410
CREATED:20220123T214855Z
LAST-MODIFIED:20220123T214855Z
UID:7646-1644062400-1644094800@packinghousewines.com
SUMMARY:Weekend Wine Tasting: Southern Hemisphere Wines
DESCRIPTION:
URL:https://packinghousewines.com/event/weekend-wine-tasting-southern-hemisphere-wines-3/
END:VEVENT
BEGIN:VEVENT
DTSTART;TZID=America/Los_Angeles:20220206T120000
DTEND;TZID=America/Los_Angeles:20220206T180000
DTSTAMP:20260424T125410
CREATED:20220123T214931Z
LAST-MODIFIED:20220123T214931Z
UID:7648-1644148800-1644170400@packinghousewines.com
SUMMARY:Weekend Wine Tasting: Southern Hemisphere Wines
DESCRIPTION:Upon Availability 
URL:https://packinghousewines.com/event/weekend-wine-tasting-southern-hemisphere-wines-4/
END:VEVENT
BEGIN:VEVENT
DTSTART;TZID=America/Los_Angeles:20220211T170000
DTEND;TZID=America/Los_Angeles:20220211T210000
DTSTAMP:20260424T125410
CREATED:20220123T215025Z
LAST-MODIFIED:20220123T215025Z
UID:7650-1644598800-1644613200@packinghousewines.com
SUMMARY:Weekend Wine Tasting: Chateau Talbot
DESCRIPTION:
URL:https://packinghousewines.com/event/weekend-wine-tasting-chateau-talbot/
END:VEVENT
BEGIN:VEVENT
DTSTART;TZID=America/Los_Angeles:20220212T120000
DTEND;TZID=America/Los_Angeles:20220212T210000
DTSTAMP:20260424T125410
CREATED:20220123T215059Z
LAST-MODIFIED:20220123T215059Z
UID:7652-1644667200-1644699600@packinghousewines.com
SUMMARY:Weekend Wine Tasting: Chateau Talbot
DESCRIPTION:
URL:https://packinghousewines.com/event/weekend-wine-tasting-chateau-talbot-2/
END:VEVENT
BEGIN:VEVENT
DTSTART;TZID=America/Los_Angeles:20220213T120000
DTEND;TZID=America/Los_Angeles:20220213T210000
DTSTAMP:20260424T125410
CREATED:20220123T215136Z
LAST-MODIFIED:20220123T215151Z
UID:7654-1644753600-1644786000@packinghousewines.com
SUMMARY:Closed
DESCRIPTION:Superbowl Sunday
URL:https://packinghousewines.com/event/closed-3/
END:VEVENT
BEGIN:VEVENT
DTSTART;TZID=America/Los_Angeles:20220218T170000
DTEND;TZID=America/Los_Angeles:20220218T210000
DTSTAMP:20260424T125410
CREATED:20220123T215238Z
LAST-MODIFIED:20220123T215238Z
UID:7656-1645203600-1645218000@packinghousewines.com
SUMMARY:Weekend Wine Tasting: Super Tuscan Wines
DESCRIPTION:
URL:https://packinghousewines.com/event/weekend-wine-tasting-super-tuscan-wines/
END:VEVENT
BEGIN:VEVENT
DTSTART;TZID=America/Los_Angeles:20220219T120000
DTEND;TZID=America/Los_Angeles:20220219T210000
DTSTAMP:20260424T125410
CREATED:20220123T215302Z
LAST-MODIFIED:20220123T215302Z
UID:7658-1645272000-1645304400@packinghousewines.com
SUMMARY:Weekend Wine Tasting: Super Tuscan Wines
DESCRIPTION:
URL:https://packinghousewines.com/event/weekend-wine-tasting-super-tuscan-wines-2/
END:VEVENT
BEGIN:VEVENT
DTSTART;TZID=America/Los_Angeles:20220220T120000
DTEND;TZID=America/Los_Angeles:20220220T180000
DTSTAMP:20260424T125410
CREATED:20220123T215340Z
LAST-MODIFIED:20220123T215340Z
UID:7660-1645358400-1645380000@packinghousewines.com
SUMMARY:Weekend Wine Tasting: Super Tuscan Wines
DESCRIPTION:Upon Availability 
URL:https://packinghousewines.com/event/weekend-wine-tasting-super-tuscan-wines-3/
END:VEVENT
BEGIN:VEVENT
DTSTART;TZID=America/Los_Angeles:20220225T170000
DTEND;TZID=America/Los_Angeles:20220225T210000
DTSTAMP:20260424T125410
CREATED:20220123T215444Z
LAST-MODIFIED:20220123T215444Z
UID:7662-1645808400-1645822800@packinghousewines.com
SUMMARY:Weekend Wine Tasting: French Wines
DESCRIPTION:
URL:https://packinghousewines.com/event/weekend-wine-tasting-french-wines-3/
END:VEVENT
BEGIN:VEVENT
DTSTART;TZID=America/Los_Angeles:20220226T120000
DTEND;TZID=America/Los_Angeles:20220226T210000
DTSTAMP:20260424T125410
CREATED:20220123T215513Z
LAST-MODIFIED:20220123T215513Z
UID:7664-1645876800-1645909200@packinghousewines.com
SUMMARY:Weekend Wine Tasting: French Wines
DESCRIPTION:
URL:https://packinghousewines.com/event/weekend-wine-tasting-french-wines-4/
END:VEVENT
BEGIN:VEVENT
DTSTART;TZID=America/Los_Angeles:20220227T120000
DTEND;TZID=America/Los_Angeles:20220227T180000
DTSTAMP:20260424T125410
CREATED:20220123T215601Z
LAST-MODIFIED:20220123T215601Z
UID:7666-1645963200-1645984800@packinghousewines.com
SUMMARY:Weekend Wine Tasting: French Wines
DESCRIPTION:Upon Availability 
URL:https://packinghousewines.com/event/weekend-wine-tasting-french-wines-5/
END:VEVENT
END:VCALENDAR