BEGIN:VCALENDAR
VERSION:2.0
PRODID:-//Packing House Wines - ECPv6.15.20//NONSGML v1.0//EN
CALSCALE:GREGORIAN
METHOD:PUBLISH
X-WR-CALNAME:Packing House Wines
X-ORIGINAL-URL:https://packinghousewines.com
X-WR-CALDESC:Events for Packing House Wines
REFRESH-INTERVAL;VALUE=DURATION:PT1H
X-Robots-Tag:noindex
X-PUBLISHED-TTL:PT1H
BEGIN:VTIMEZONE
TZID:America/Los_Angeles
BEGIN:DAYLIGHT
TZOFFSETFROM:-0800
TZOFFSETTO:-0700
TZNAME:PDT
DTSTART:20200308T100000
END:DAYLIGHT
BEGIN:STANDARD
TZOFFSETFROM:-0700
TZOFFSETTO:-0800
TZNAME:PST
DTSTART:20201101T090000
END:STANDARD
BEGIN:DAYLIGHT
TZOFFSETFROM:-0800
TZOFFSETTO:-0700
TZNAME:PDT
DTSTART:20210314T100000
END:DAYLIGHT
BEGIN:STANDARD
TZOFFSETFROM:-0700
TZOFFSETTO:-0800
TZNAME:PST
DTSTART:20211107T090000
END:STANDARD
BEGIN:DAYLIGHT
TZOFFSETFROM:-0800
TZOFFSETTO:-0700
TZNAME:PDT
DTSTART:20220313T100000
END:DAYLIGHT
BEGIN:STANDARD
TZOFFSETFROM:-0700
TZOFFSETTO:-0800
TZNAME:PST
DTSTART:20221106T090000
END:STANDARD
END:VTIMEZONE
BEGIN:VEVENT
DTSTART;TZID=America/Los_Angeles:20211210T170000
DTEND;TZID=America/Los_Angeles:20211210T210000
DTSTAMP:20260424T154132
CREATED:20211211T233110Z
LAST-MODIFIED:20211211T233110Z
UID:7591-1639155600-1639170000@packinghousewines.com
SUMMARY:Weekend Wine Tasting: Treat Yourself
DESCRIPTION:
URL:https://packinghousewines.com/event/weekend-wine-tasting-treat-yourself/
END:VEVENT
BEGIN:VEVENT
DTSTART;TZID=America/Los_Angeles:20211211T120000
DTEND;TZID=America/Los_Angeles:20211211T210000
DTSTAMP:20260424T154132
CREATED:20211211T233148Z
LAST-MODIFIED:20211211T233148Z
UID:7593-1639224000-1639256400@packinghousewines.com
SUMMARY:Weekend Wine Tasting: Treat Yourself
DESCRIPTION:
URL:https://packinghousewines.com/event/weekend-wine-tasting-treat-yourself-2/
END:VEVENT
BEGIN:VEVENT
DTSTART;TZID=America/Los_Angeles:20211212T120000
DTEND;TZID=America/Los_Angeles:20211212T140000
DTSTAMP:20260424T154132
CREATED:20211211T233301Z
LAST-MODIFIED:20211211T233301Z
UID:7597-1639310400-1639317600@packinghousewines.com
SUMMARY:Champagne Class
DESCRIPTION:Please call to reserve a spot (909)445-9463.
URL:https://packinghousewines.com/event/champagne-class/
END:VEVENT
BEGIN:VEVENT
DTSTART;TZID=America/Los_Angeles:20211212T120000
DTEND;TZID=America/Los_Angeles:20211212T180000
DTSTAMP:20260424T154132
CREATED:20211211T233223Z
LAST-MODIFIED:20211211T233223Z
UID:7595-1639310400-1639332000@packinghousewines.com
SUMMARY:Weekend Wine Tasting: Treat Yourself
DESCRIPTION:Upon Availability 
URL:https://packinghousewines.com/event/weekend-wine-tasting-treat-yourself-3/
END:VEVENT
BEGIN:VEVENT
DTSTART;TZID=America/Los_Angeles:20211217T170000
DTEND;TZID=America/Los_Angeles:20211217T210000
DTSTAMP:20260424T154132
CREATED:20211211T233350Z
LAST-MODIFIED:20211211T233350Z
UID:7599-1639760400-1639774800@packinghousewines.com
SUMMARY:Weekend Wine Tasting: Champagne
DESCRIPTION:
URL:https://packinghousewines.com/event/weekend-wine-tasting-champagne/
END:VEVENT
BEGIN:VEVENT
DTSTART;TZID=America/Los_Angeles:20211218T120000
DTEND;TZID=America/Los_Angeles:20211218T210000
DTSTAMP:20260424T154132
CREATED:20211211T233425Z
LAST-MODIFIED:20211211T233425Z
UID:7601-1639828800-1639861200@packinghousewines.com
SUMMARY:Weekend Wine Tasting: Champagne
DESCRIPTION:
URL:https://packinghousewines.com/event/weekend-wine-tasting-champagne-2/
END:VEVENT
BEGIN:VEVENT
DTSTART;TZID=America/Los_Angeles:20211219T120000
DTEND;TZID=America/Los_Angeles:20211219T180000
DTSTAMP:20260424T154132
CREATED:20211211T233520Z
LAST-MODIFIED:20211211T233520Z
UID:7603-1639915200-1639936800@packinghousewines.com
SUMMARY:Weekend Wine Tasting: Champagne
DESCRIPTION:Upon Availability 
URL:https://packinghousewines.com/event/weekend-wine-tasting-champagne-3/
END:VEVENT
BEGIN:VEVENT
DTSTART;TZID=America/Los_Angeles:20211225T080000
DTEND;TZID=America/Los_Angeles:20211225T170000
DTSTAMP:20260424T154132
CREATED:20211211T233609Z
LAST-MODIFIED:20211211T233609Z
UID:7605-1640419200-1640451600@packinghousewines.com
SUMMARY:Closed - Happy Holidays
DESCRIPTION:
URL:https://packinghousewines.com/event/closed-happy-holidays/
END:VEVENT
END:VCALENDAR