BEGIN:VCALENDAR
VERSION:2.0
PRODID:-//Packing House Wines - ECPv6.15.20//NONSGML v1.0//EN
CALSCALE:GREGORIAN
METHOD:PUBLISH
X-WR-CALNAME:Packing House Wines
X-ORIGINAL-URL:https://packinghousewines.com
X-WR-CALDESC:Events for Packing House Wines
REFRESH-INTERVAL;VALUE=DURATION:PT1H
X-Robots-Tag:noindex
X-PUBLISHED-TTL:PT1H
BEGIN:VTIMEZONE
TZID:America/Los_Angeles
BEGIN:DAYLIGHT
TZOFFSETFROM:-0800
TZOFFSETTO:-0700
TZNAME:PDT
DTSTART:20200308T100000
END:DAYLIGHT
BEGIN:STANDARD
TZOFFSETFROM:-0700
TZOFFSETTO:-0800
TZNAME:PST
DTSTART:20201101T090000
END:STANDARD
BEGIN:DAYLIGHT
TZOFFSETFROM:-0800
TZOFFSETTO:-0700
TZNAME:PDT
DTSTART:20210314T100000
END:DAYLIGHT
BEGIN:STANDARD
TZOFFSETFROM:-0700
TZOFFSETTO:-0800
TZNAME:PST
DTSTART:20211107T090000
END:STANDARD
BEGIN:DAYLIGHT
TZOFFSETFROM:-0800
TZOFFSETTO:-0700
TZNAME:PDT
DTSTART:20220313T100000
END:DAYLIGHT
BEGIN:STANDARD
TZOFFSETFROM:-0700
TZOFFSETTO:-0800
TZNAME:PST
DTSTART:20221106T090000
END:STANDARD
END:VTIMEZONE
BEGIN:VEVENT
DTSTART;TZID=America/Los_Angeles:20211008T170000
DTEND;TZID=America/Los_Angeles:20211008T210000
DTSTAMP:20260424T183615
CREATED:20211007T032857Z
LAST-MODIFIED:20211007T032857Z
UID:7527-1633712400-1633726800@packinghousewines.com
SUMMARY:Weekend Wine Tasting: Paso Robles Wines
DESCRIPTION:
URL:https://packinghousewines.com/event/weekend-wine-tasting-paso-robles-wines/
END:VEVENT
BEGIN:VEVENT
DTSTART;TZID=America/Los_Angeles:20211009T120000
DTEND;TZID=America/Los_Angeles:20211009T210000
DTSTAMP:20260424T183615
CREATED:20211007T032924Z
LAST-MODIFIED:20211007T032924Z
UID:7529-1633780800-1633813200@packinghousewines.com
SUMMARY:Weekend Wine Tasting: Paso Robles Wines
DESCRIPTION:
URL:https://packinghousewines.com/event/weekend-wine-tasting-paso-robles-wines-2/
END:VEVENT
BEGIN:VEVENT
DTSTART;TZID=America/Los_Angeles:20211010T120000
DTEND;TZID=America/Los_Angeles:20211010T180000
DTSTAMP:20260424T183615
CREATED:20211007T033004Z
LAST-MODIFIED:20211007T033004Z
UID:7531-1633867200-1633888800@packinghousewines.com
SUMMARY:Weekend Wine Tasting: Paso Robles Wines
DESCRIPTION:Upon Avilability 
URL:https://packinghousewines.com/event/weekend-wine-tasting-paso-robles-wines-3/
END:VEVENT
BEGIN:VEVENT
DTSTART;TZID=America/Los_Angeles:20211015T170000
DTEND;TZID=America/Los_Angeles:20211015T210000
DTSTAMP:20260424T183615
CREATED:20211007T033059Z
LAST-MODIFIED:20211010T023131Z
UID:7533-1634317200-1634331600@packinghousewines.com
SUMMARY:Weekend Wine Tasting: Rhones of the World
DESCRIPTION:
URL:https://packinghousewines.com/event/weekend-wine-tasting-malbecs-of-the-world/
END:VEVENT
BEGIN:VEVENT
DTSTART;TZID=America/Los_Angeles:20211016T120000
DTEND;TZID=America/Los_Angeles:20211016T210000
DTSTAMP:20260424T183615
CREATED:20211007T033215Z
LAST-MODIFIED:20211010T023159Z
UID:7536-1634385600-1634418000@packinghousewines.com
SUMMARY:Weekend Wine Tasting: Rhones of the World
DESCRIPTION:
URL:https://packinghousewines.com/event/weekend-wine-tasting-malbecs-of-the-world-2/
END:VEVENT
BEGIN:VEVENT
DTSTART;TZID=America/Los_Angeles:20211017T120000
DTEND;TZID=America/Los_Angeles:20211017T180000
DTSTAMP:20260424T183615
CREATED:20211007T033318Z
LAST-MODIFIED:20211010T023230Z
UID:7538-1634472000-1634493600@packinghousewines.com
SUMMARY:Weekend Wine Tasting: Rhones of the World
DESCRIPTION:Upon Availability 
URL:https://packinghousewines.com/event/weekend-wine-tasting-malbecs-of-the-world-3/
END:VEVENT
BEGIN:VEVENT
DTSTART;TZID=America/Los_Angeles:20211022T170000
DTEND;TZID=America/Los_Angeles:20211022T210000
DTSTAMP:20260424T183615
CREATED:20211007T033431Z
LAST-MODIFIED:20211007T033431Z
UID:7540-1634922000-1634936400@packinghousewines.com
SUMMARY:Weekend Wine Tasting: Peake Ranch Winery
DESCRIPTION:
URL:https://packinghousewines.com/event/weekend-wine-tasting-peake-ranch-winery/
END:VEVENT
BEGIN:VEVENT
DTSTART;TZID=America/Los_Angeles:20211023T120000
DTEND;TZID=America/Los_Angeles:20211023T210000
DTSTAMP:20260424T183615
CREATED:20211007T033548Z
LAST-MODIFIED:20211007T033548Z
UID:7542-1634990400-1635022800@packinghousewines.com
SUMMARY:Weekend Wine Tasting: Peake Ranch Winery
DESCRIPTION:
URL:https://packinghousewines.com/event/weekend-wine-tasting-peake-ranch-winery-2/
END:VEVENT
BEGIN:VEVENT
DTSTART;TZID=America/Los_Angeles:20211024T120000
DTEND;TZID=America/Los_Angeles:20211024T180000
DTSTAMP:20260424T183615
CREATED:20211007T033701Z
LAST-MODIFIED:20211007T033701Z
UID:7544-1635076800-1635098400@packinghousewines.com
SUMMARY:Weekend Wine Tasting: Peake Ranch Winery
DESCRIPTION:Upon Availability 
URL:https://packinghousewines.com/event/weekend-wine-tasting-peake-ranch-winery-3/
END:VEVENT
END:VCALENDAR