BEGIN:VCALENDAR
VERSION:2.0
PRODID:-//Packing House Wines - ECPv6.15.20//NONSGML v1.0//EN
CALSCALE:GREGORIAN
METHOD:PUBLISH
X-WR-CALNAME:Packing House Wines
X-ORIGINAL-URL:https://packinghousewines.com
X-WR-CALDESC:Events for Packing House Wines
REFRESH-INTERVAL;VALUE=DURATION:PT1H
X-Robots-Tag:noindex
X-PUBLISHED-TTL:PT1H
BEGIN:VTIMEZONE
TZID:America/Los_Angeles
BEGIN:DAYLIGHT
TZOFFSETFROM:-0800
TZOFFSETTO:-0700
TZNAME:PDT
DTSTART:20200308T100000
END:DAYLIGHT
BEGIN:STANDARD
TZOFFSETFROM:-0700
TZOFFSETTO:-0800
TZNAME:PST
DTSTART:20201101T090000
END:STANDARD
BEGIN:DAYLIGHT
TZOFFSETFROM:-0800
TZOFFSETTO:-0700
TZNAME:PDT
DTSTART:20210314T100000
END:DAYLIGHT
BEGIN:STANDARD
TZOFFSETFROM:-0700
TZOFFSETTO:-0800
TZNAME:PST
DTSTART:20211107T090000
END:STANDARD
BEGIN:DAYLIGHT
TZOFFSETFROM:-0800
TZOFFSETTO:-0700
TZNAME:PDT
DTSTART:20220313T100000
END:DAYLIGHT
BEGIN:STANDARD
TZOFFSETFROM:-0700
TZOFFSETTO:-0800
TZNAME:PST
DTSTART:20221106T090000
END:STANDARD
END:VTIMEZONE
BEGIN:VEVENT
DTSTART;TZID=America/Los_Angeles:20210122T170000
DTEND;TZID=America/Los_Angeles:20210122T200000
DTSTAMP:20260425T075226
CREATED:20210122T025437Z
LAST-MODIFIED:20210122T025437Z
UID:6848-1611334800-1611345600@packinghousewines.com
SUMMARY:Syrahs of the West Weekend Wine Tasting
DESCRIPTION:Four 4oz pours of each wine in sterilized vials (To-Go)
URL:https://packinghousewines.com/event/syrahs-of-the-west-weekend-wine-tasting/
END:VEVENT
BEGIN:VEVENT
DTSTART;TZID=America/Los_Angeles:20210123T120000
DTEND;TZID=America/Los_Angeles:20210123T200000
DTSTAMP:20260425T075226
CREATED:20210122T025517Z
LAST-MODIFIED:20210122T025517Z
UID:6850-1611403200-1611432000@packinghousewines.com
SUMMARY:Syrahs of the West Weekend Wine Tasting
DESCRIPTION:Four 4oz pours of each wine in sterilized vials (To-Go)
URL:https://packinghousewines.com/event/syrahs-of-the-west-weekend-wine-tasting-2/
END:VEVENT
BEGIN:VEVENT
DTSTART;TZID=America/Los_Angeles:20210124T120000
DTEND;TZID=America/Los_Angeles:20210124T180000
DTSTAMP:20260425T075226
CREATED:20210124T010514Z
LAST-MODIFIED:20210124T010538Z
UID:6943-1611489600-1611511200@packinghousewines.com
SUMMARY:Syrahs of the West Weekend Wine Tasting
DESCRIPTION:Upon Availability  \nFour 4oz pours of each wine in sterilized vials (To-Go)
URL:https://packinghousewines.com/event/syrahs-of-the-west-weekend-wine-tasting-4/
END:VEVENT
BEGIN:VEVENT
DTSTART;TZID=America/Los_Angeles:20210124T120000
DTEND;TZID=America/Los_Angeles:20210124T180000
DTSTAMP:20260425T075226
CREATED:20210124T025525Z
LAST-MODIFIED:20210122T025617Z
UID:6852-1611489600-1611511200@packinghousewines.com
SUMMARY:Syrahs of the West Weekend Wine Tasting
DESCRIPTION:Upon Availability  \nFour 4oz pours of each wine in sterilized vials (To-Go)
URL:https://packinghousewines.com/event/syrahs-of-the-west-weekend-wine-tasting-3/
END:VEVENT
BEGIN:VEVENT
DTSTART;TZID=America/Los_Angeles:20210129T160000
DTEND;TZID=America/Los_Angeles:20210129T200000
DTSTAMP:20260425T075226
CREATED:20210122T233359Z
LAST-MODIFIED:20210122T235925Z
UID:6868-1611936000-1611950400@packinghousewines.com
SUMMARY:Malbecs from Argentina Weekend Wine Tasting
DESCRIPTION:Four 4oz pours of each wine in sterilized vials (To-Go)
URL:https://packinghousewines.com/event/malbecs-from-argentina-weekend-wine-tasting/
END:VEVENT
BEGIN:VEVENT
DTSTART;TZID=America/Los_Angeles:20210130T120000
DTEND;TZID=America/Los_Angeles:20210130T200000
DTSTAMP:20260425T075226
CREATED:20210122T234658Z
LAST-MODIFIED:20210122T234658Z
UID:6870-1612008000-1612036800@packinghousewines.com
SUMMARY:Malbecs from Argentina
DESCRIPTION:Four 4oz pours of each wine in sterilized vials (To-Go)
URL:https://packinghousewines.com/event/malbecs-from-argentina/
END:VEVENT
BEGIN:VEVENT
DTSTART;TZID=America/Los_Angeles:20210131T120000
DTEND;TZID=America/Los_Angeles:20210131T180000
DTSTAMP:20260425T075226
CREATED:20210122T234904Z
LAST-MODIFIED:20210122T234904Z
UID:6872-1612094400-1612116000@packinghousewines.com
SUMMARY:Malbecs for Argentina Weekend Wine Tasting
DESCRIPTION:Upon Availability  \nFour 4oz pours of each wine in sterilized vials (To-Go)
URL:https://packinghousewines.com/event/malbecs-for-argentina-weekend-wine-tasting/
END:VEVENT
END:VCALENDAR