BEGIN:VCALENDAR
VERSION:2.0
PRODID:-//Packing House Wines - ECPv6.15.20//NONSGML v1.0//EN
CALSCALE:GREGORIAN
METHOD:PUBLISH
X-WR-CALNAME:Packing House Wines
X-ORIGINAL-URL:https://packinghousewines.com
X-WR-CALDESC:Events for Packing House Wines
REFRESH-INTERVAL;VALUE=DURATION:PT1H
X-Robots-Tag:noindex
X-PUBLISHED-TTL:PT1H
BEGIN:VTIMEZONE
TZID:America/Los_Angeles
BEGIN:DAYLIGHT
TZOFFSETFROM:-0800
TZOFFSETTO:-0700
TZNAME:PDT
DTSTART:20190310T100000
END:DAYLIGHT
BEGIN:STANDARD
TZOFFSETFROM:-0700
TZOFFSETTO:-0800
TZNAME:PST
DTSTART:20191103T090000
END:STANDARD
BEGIN:DAYLIGHT
TZOFFSETFROM:-0800
TZOFFSETTO:-0700
TZNAME:PDT
DTSTART:20200308T100000
END:DAYLIGHT
BEGIN:STANDARD
TZOFFSETFROM:-0700
TZOFFSETTO:-0800
TZNAME:PST
DTSTART:20201101T090000
END:STANDARD
BEGIN:DAYLIGHT
TZOFFSETFROM:-0800
TZOFFSETTO:-0700
TZNAME:PDT
DTSTART:20210314T100000
END:DAYLIGHT
BEGIN:STANDARD
TZOFFSETFROM:-0700
TZOFFSETTO:-0800
TZNAME:PST
DTSTART:20211107T090000
END:STANDARD
END:VTIMEZONE
BEGIN:VEVENT
DTSTART;TZID=America/Los_Angeles:20201204T170000
DTEND;TZID=America/Los_Angeles:20201204T210000
DTSTAMP:20260425T091639
CREATED:20201121T235004Z
LAST-MODIFIED:20201121T235721Z
UID:6682-1607101200-1607115600@packinghousewines.com
SUMMARY:Rosso vs Brunello di Montalcino Wine Tasting
DESCRIPTION:Four 4oz pours of each wine in sterilized vials (To-Go) \nFour 2oz pours of each wine (Dine In)
URL:https://packinghousewines.com/event/rosso-vs-brunello-di-montalcino/
END:VEVENT
BEGIN:VEVENT
DTSTART;TZID=America/Los_Angeles:20201205T170000
DTEND;TZID=America/Los_Angeles:20201205T210000
DTSTAMP:20260425T091639
CREATED:20201121T235043Z
LAST-MODIFIED:20201121T235716Z
UID:6684-1607187600-1607202000@packinghousewines.com
SUMMARY:Rosso vs Brunello di Montalcino Wine Tasting
DESCRIPTION:Four 4oz pours of each wine in sterilized vials (To-Go) \nFour 2oz pours of each wine (Dine In)
URL:https://packinghousewines.com/event/rosso-vs-brunello-di-montalcino-2/
END:VEVENT
BEGIN:VEVENT
DTSTART;TZID=America/Los_Angeles:20201206T120000
DTEND;TZID=America/Los_Angeles:20201206T180000
DTSTAMP:20260425T091639
CREATED:20201121T235127Z
LAST-MODIFIED:20201121T235711Z
UID:6686-1607256000-1607277600@packinghousewines.com
SUMMARY:Rosso vs Brunello di Montalcino Wine Tasting
DESCRIPTION:Upon Availability \nFour 4oz pours of each wine in sterilized vials (To-Go) \nFour 2oz pours of each wine (Dine In)
URL:https://packinghousewines.com/event/rosso-vs-brunello-di-montalcino-3/
END:VEVENT
BEGIN:VEVENT
DTSTART;TZID=America/Los_Angeles:20201211T170000
DTEND;TZID=America/Los_Angeles:20201211T210000
DTSTAMP:20260425T091639
CREATED:20201121T235209Z
LAST-MODIFIED:20201121T235705Z
UID:6690-1607706000-1607720400@packinghousewines.com
SUMMARY:Cabernets Wine Tasting
DESCRIPTION:Four 4oz pours of each wine in sterilized vials (To-Go) \nFour 2oz pours of each wine (Dine In)
URL:https://packinghousewines.com/event/cabernets/
END:VEVENT
BEGIN:VEVENT
DTSTART;TZID=America/Los_Angeles:20201212T170000
DTEND;TZID=America/Los_Angeles:20201212T210000
DTSTAMP:20260425T091639
CREATED:20201121T235238Z
LAST-MODIFIED:20201121T235700Z
UID:6692-1607792400-1607806800@packinghousewines.com
SUMMARY:Cabernets Wine Tasting
DESCRIPTION:Four 4oz pours of each wine in sterilized vials (To-Go) \nFour 2oz pours of each wine (Dine In)
URL:https://packinghousewines.com/event/cabernets-2/
END:VEVENT
BEGIN:VEVENT
DTSTART;TZID=America/Los_Angeles:20201213T120000
DTEND;TZID=America/Los_Angeles:20201213T180000
DTSTAMP:20260425T091639
CREATED:20201121T235315Z
LAST-MODIFIED:20201121T235655Z
UID:6694-1607860800-1607882400@packinghousewines.com
SUMMARY:Cabernets Wine Tasting
DESCRIPTION:Upon Availability \nFour 4oz pours of each wine in sterilized vials (To-Go) \nFour 2oz pours of each wine (Dine In)
URL:https://packinghousewines.com/event/cabernets-3/
END:VEVENT
BEGIN:VEVENT
DTSTART;TZID=America/Los_Angeles:20201218T170000
DTEND;TZID=America/Los_Angeles:20201218T210000
DTSTAMP:20260425T091639
CREATED:20201121T235407Z
LAST-MODIFIED:20201121T235407Z
UID:6696-1608310800-1608325200@packinghousewines.com
SUMMARY:Great Score\, Great Price Wine Tasting
DESCRIPTION:Four 4oz pours of each wine in sterilized vials (To-Go) \nFour 2oz pours of each wine (Dine In)
URL:https://packinghousewines.com/event/great-score-great-price-wine-tasting/
END:VEVENT
BEGIN:VEVENT
DTSTART;TZID=America/Los_Angeles:20201219T170000
DTEND;TZID=America/Los_Angeles:20201219T210000
DTSTAMP:20260425T091639
CREATED:20201121T235451Z
LAST-MODIFIED:20201121T235628Z
UID:6698-1608397200-1608411600@packinghousewines.com
SUMMARY:Great Score\, Great Price Wine Tasting
DESCRIPTION:Four 4oz pours of each wine in sterilized vials (To-Go) \nFour 2oz pours of each wine (Dine In)
URL:https://packinghousewines.com/event/great-score-great-price/
END:VEVENT
BEGIN:VEVENT
DTSTART;TZID=America/Los_Angeles:20201220T120000
DTEND;TZID=America/Los_Angeles:20201220T180000
DTSTAMP:20260425T091639
CREATED:20201121T235532Z
LAST-MODIFIED:20201121T235532Z
UID:6700-1608465600-1608487200@packinghousewines.com
SUMMARY:Great Score\, Great Price Wine Tasting
DESCRIPTION:Upon Availability  \nFour 4oz pours of each wine in sterilized vials (To-Go) \nFour 2oz pours of each wine (Dine In)
URL:https://packinghousewines.com/event/great-score-great-price-wine-tasting-2/
END:VEVENT
END:VCALENDAR