BEGIN:VCALENDAR
VERSION:2.0
PRODID:-//Packing House Wines - ECPv6.15.20//NONSGML v1.0//EN
CALSCALE:GREGORIAN
METHOD:PUBLISH
X-ORIGINAL-URL:https://packinghousewines.com
X-WR-CALDESC:Events for Packing House Wines
REFRESH-INTERVAL;VALUE=DURATION:PT1H
X-Robots-Tag:noindex
X-PUBLISHED-TTL:PT1H
BEGIN:VTIMEZONE
TZID:America/Los_Angeles
BEGIN:DAYLIGHT
TZOFFSETFROM:-0800
TZOFFSETTO:-0700
TZNAME:PDT
DTSTART:20190310T100000
END:DAYLIGHT
BEGIN:STANDARD
TZOFFSETFROM:-0700
TZOFFSETTO:-0800
TZNAME:PST
DTSTART:20191103T090000
END:STANDARD
BEGIN:DAYLIGHT
TZOFFSETFROM:-0800
TZOFFSETTO:-0700
TZNAME:PDT
DTSTART:20200308T100000
END:DAYLIGHT
BEGIN:STANDARD
TZOFFSETFROM:-0700
TZOFFSETTO:-0800
TZNAME:PST
DTSTART:20201101T090000
END:STANDARD
BEGIN:DAYLIGHT
TZOFFSETFROM:-0800
TZOFFSETTO:-0700
TZNAME:PDT
DTSTART:20210314T100000
END:DAYLIGHT
BEGIN:STANDARD
TZOFFSETFROM:-0700
TZOFFSETTO:-0800
TZNAME:PST
DTSTART:20211107T090000
END:STANDARD
END:VTIMEZONE
BEGIN:VEVENT
DTSTART;TZID=America/Los_Angeles:20201121T170000
DTEND;TZID=America/Los_Angeles:20201121T210000
DTSTAMP:20260425T105524
CREATED:20201121T234555Z
LAST-MODIFIED:20201121T235754Z
UID:6672-1605978000-1605992400@packinghousewines.com
SUMMARY:California Pinot Noir Wine Tasting
DESCRIPTION:Four 4oz pours of each wine in sterilized vials (To-Go) \nFour 2oz pours of each wine (Dine In)
URL:https://packinghousewines.com/event/california-pinot-noir/
END:VEVENT
BEGIN:VEVENT
DTSTART;TZID=America/Los_Angeles:20201122T120000
DTEND;TZID=America/Los_Angeles:20201122T180000
DTSTAMP:20260425T105524
CREATED:20201121T234645Z
LAST-MODIFIED:20201121T235742Z
UID:6674-1606046400-1606068000@packinghousewines.com
SUMMARY:California Pinot Noir Wine Tasting
DESCRIPTION:Upon Availability \nFour 4oz pours of each wine in sterilized vials (To-Go) \nFour 2oz pours of each wine (Dine In)
URL:https://packinghousewines.com/event/california-pinot-noir-2/
END:VEVENT
BEGIN:VEVENT
DTSTART;TZID=America/Los_Angeles:20201127T170000
DTEND;TZID=America/Los_Angeles:20201127T210000
DTSTAMP:20260425T105524
CREATED:20201121T234804Z
LAST-MODIFIED:20201121T235737Z
UID:6676-1606496400-1606510800@packinghousewines.com
SUMMARY:World of Pinot Noir Wine Tasting
DESCRIPTION:Four 4oz pours of each wine in sterilized vials (To-Go) \nFour 2oz pours of each wine (Dine In)
URL:https://packinghousewines.com/event/world-of-pinot-noir/
END:VEVENT
BEGIN:VEVENT
DTSTART;TZID=America/Los_Angeles:20201128T120000
DTEND;TZID=America/Los_Angeles:20201128T210000
DTSTAMP:20260425T105524
CREATED:20201121T234836Z
LAST-MODIFIED:20201121T235733Z
UID:6678-1606564800-1606597200@packinghousewines.com
SUMMARY:World of Pinot Noir Wine Tasting
DESCRIPTION:Four 4oz pours of each wine in sterilized vials (To-Go) \nFour 2oz pours of each wine (Dine In)
URL:https://packinghousewines.com/event/world-of-pinot-noir-2/
END:VEVENT
BEGIN:VEVENT
DTSTART;TZID=America/Los_Angeles:20201129T120000
DTEND;TZID=America/Los_Angeles:20201129T180000
DTSTAMP:20260425T105524
CREATED:20201121T234919Z
LAST-MODIFIED:20201121T235728Z
UID:6680-1606651200-1606672800@packinghousewines.com
SUMMARY:World of Pinot Noir Wine Tasting
DESCRIPTION:Upon Availability \nFour 4oz pours of each wine in sterilized vials (To-Go) \nFour 2oz pours of each wine (Dine In)
URL:https://packinghousewines.com/event/world-of-pinot-noir-3/
END:VEVENT
END:VCALENDAR