BEGIN:VCALENDAR
VERSION:2.0
PRODID:-//Packing House Wines - ECPv6.15.20//NONSGML v1.0//EN
CALSCALE:GREGORIAN
METHOD:PUBLISH
X-WR-CALNAME:Packing House Wines
X-ORIGINAL-URL:https://packinghousewines.com
X-WR-CALDESC:Events for Packing House Wines
REFRESH-INTERVAL;VALUE=DURATION:PT1H
X-Robots-Tag:noindex
X-PUBLISHED-TTL:PT1H
BEGIN:VTIMEZONE
TZID:America/Los_Angeles
BEGIN:DAYLIGHT
TZOFFSETFROM:-0800
TZOFFSETTO:-0700
TZNAME:PDT
DTSTART:20190310T100000
END:DAYLIGHT
BEGIN:STANDARD
TZOFFSETFROM:-0700
TZOFFSETTO:-0800
TZNAME:PST
DTSTART:20191103T090000
END:STANDARD
BEGIN:DAYLIGHT
TZOFFSETFROM:-0800
TZOFFSETTO:-0700
TZNAME:PDT
DTSTART:20200308T100000
END:DAYLIGHT
BEGIN:STANDARD
TZOFFSETFROM:-0700
TZOFFSETTO:-0800
TZNAME:PST
DTSTART:20201101T090000
END:STANDARD
BEGIN:DAYLIGHT
TZOFFSETFROM:-0800
TZOFFSETTO:-0700
TZNAME:PDT
DTSTART:20210314T100000
END:DAYLIGHT
BEGIN:STANDARD
TZOFFSETFROM:-0700
TZOFFSETTO:-0800
TZNAME:PST
DTSTART:20211107T090000
END:STANDARD
END:VTIMEZONE
BEGIN:VEVENT
DTSTART;TZID=America/Los_Angeles:20200904T170000
DTEND;TZID=America/Los_Angeles:20200904T210000
DTSTAMP:20260425T134204
CREATED:20200725T022049Z
LAST-MODIFIED:20200725T022049Z
UID:6518-1599238800-1599253200@packinghousewines.com
SUMMARY:Weekend Wine Tasting: Riesling (To-Go)
DESCRIPTION:Four 4oz pours of each wine in sterilized vials.
URL:https://packinghousewines.com/event/weekend-wine-tasting-riesling-to-go/
LOCATION:Packing House Wines\, 540 W First Street\, Claremont\, CA\, 91711\, United States
END:VEVENT
BEGIN:VEVENT
DTSTART;TZID=America/Los_Angeles:20200905T120000
DTEND;TZID=America/Los_Angeles:20200905T210000
DTSTAMP:20260425T134204
CREATED:20200725T022129Z
LAST-MODIFIED:20200725T022129Z
UID:6520-1599307200-1599339600@packinghousewines.com
SUMMARY:Weekend Wine Tasting: Riesling (To-Go)
DESCRIPTION:Four 4oz pours of each wine in sterilized vials.
URL:https://packinghousewines.com/event/weekend-wine-tasting-riesling-to-go-2/
LOCATION:Packing House Wines\, 540 W First Street\, Claremont\, CA\, 91711\, United States
END:VEVENT
BEGIN:VEVENT
DTSTART;TZID=America/Los_Angeles:20200906T120000
DTEND;TZID=America/Los_Angeles:20200906T180000
DTSTAMP:20260425T134204
CREATED:20200725T022236Z
LAST-MODIFIED:20200725T022236Z
UID:6522-1599393600-1599415200@packinghousewines.com
SUMMARY:Weekend Wine Tasting: Riesling (To-Go)
DESCRIPTION:Upon Availability  \nFour 4oz pours of each wine in sterilized vials.
URL:https://packinghousewines.com/event/weekend-wine-tasting-riesling-to-go-3/
LOCATION:Packing House Wines\, 540 W First Street\, Claremont\, CA\, 91711\, United States
END:VEVENT
BEGIN:VEVENT
DTSTART;TZID=America/Los_Angeles:20200911T170000
DTEND;TZID=America/Los_Angeles:20200911T210000
DTSTAMP:20260425T134204
CREATED:20200823T215135Z
LAST-MODIFIED:20200823T215135Z
UID:6577-1599843600-1599858000@packinghousewines.com
SUMMARY:Weekend Wine Tasting: Wines from South Africa (To-Go)
DESCRIPTION:Four 4oz pours of each wine in sterilized vials.
URL:https://packinghousewines.com/event/weekend-wine-tasting-wines-from-south-africa-to-go/
LOCATION:Packing House Wines\, 540 W First Street\, Claremont\, CA\, 91711\, United States
END:VEVENT
BEGIN:VEVENT
DTSTART;TZID=America/Los_Angeles:20200912T120000
DTEND;TZID=America/Los_Angeles:20200912T210000
DTSTAMP:20260425T134204
CREATED:20200823T215223Z
LAST-MODIFIED:20200823T215223Z
UID:6579-1599912000-1599944400@packinghousewines.com
SUMMARY:Weekend Wine Tasting: Wines from South Africa (To-Go)
DESCRIPTION:Four 4oz pours of each wine in sterilized vials.
URL:https://packinghousewines.com/event/weekend-wine-tasting-wines-from-south-africa-to-go-2/
LOCATION:Packing House Wines\, 540 W First Street\, Claremont\, CA\, 91711\, United States
END:VEVENT
BEGIN:VEVENT
DTSTART;TZID=America/Los_Angeles:20200913T140000
DTEND;TZID=America/Los_Angeles:20200913T180000
DTSTAMP:20260425T134204
CREATED:20200823T215328Z
LAST-MODIFIED:20200823T215328Z
UID:6581-1600005600-1600020000@packinghousewines.com
SUMMARY:Weekend Wine Tasting: Wines from South Africa (To-Go)
DESCRIPTION:Upon Availability  \nFour 4oz pours of each wine in sterilized vials.
URL:https://packinghousewines.com/event/weekend-wine-tasting-wines-from-south-africa-to-go-3/
LOCATION:Packing House Wines\, 540 W First Street\, Claremont\, CA\, 91711\, United States
END:VEVENT
BEGIN:VEVENT
DTSTART;TZID=America/Los_Angeles:20200918T170000
DTEND;TZID=America/Los_Angeles:20200918T210000
DTSTAMP:20260425T134204
CREATED:20200823T215414Z
LAST-MODIFIED:20200823T215414Z
UID:6583-1600448400-1600462800@packinghousewines.com
SUMMARY:Weekend Wine Tasting: Bordeaux Wines (To-Go)
DESCRIPTION:Four 4oz pours of each wine in sterilized vials.
URL:https://packinghousewines.com/event/weekend-wine-tasting-bordeaux-wines-to-go/
LOCATION:Packing House Wines\, 540 W First Street\, Claremont\, CA\, 91711\, United States
END:VEVENT
BEGIN:VEVENT
DTSTART;TZID=America/Los_Angeles:20200919T120000
DTEND;TZID=America/Los_Angeles:20200919T210000
DTSTAMP:20260425T134204
CREATED:20200823T215500Z
LAST-MODIFIED:20200823T215500Z
UID:6585-1600516800-1600549200@packinghousewines.com
SUMMARY:Weekend Wine Tasting: Bordeaux Wines (To-Go)
DESCRIPTION:Four 4oz pours of each wine in sterilized vials.
URL:https://packinghousewines.com/event/weekend-wine-tasting-bordeaux-wines-to-go-2/
LOCATION:Packing House Wines\, 540 W First Street\, Claremont\, CA\, 91711\, United States
END:VEVENT
BEGIN:VEVENT
DTSTART;TZID=America/Los_Angeles:20200920T140000
DTEND;TZID=America/Los_Angeles:20200920T180000
DTSTAMP:20260425T134204
CREATED:20200823T215558Z
LAST-MODIFIED:20200823T215558Z
UID:6587-1600610400-1600624800@packinghousewines.com
SUMMARY:Weekend Wine Tasting: Bordeaux Wines (To-Go)
DESCRIPTION:Upon Availability  \nFour 4oz pours of each wine in sterilized vials.
URL:https://packinghousewines.com/event/weekend-wine-tasting-bordeaux-wines-to-go-3/
LOCATION:Packing House Wines\, 540 W First Street\, Claremont\, CA\, 91711\, United States
END:VEVENT
BEGIN:VEVENT
DTSTART;TZID=America/Los_Angeles:20200925T170000
DTEND;TZID=America/Los_Angeles:20200925T210000
DTSTAMP:20260425T134204
CREATED:20200823T215659Z
LAST-MODIFIED:20200823T215659Z
UID:6589-1601053200-1601067600@packinghousewines.com
SUMMARY:Weekend Wine Tasting: Rioja vs. Ribera (To-Go)
DESCRIPTION:Four 4oz pours of each wine in sterilized vials.
URL:https://packinghousewines.com/event/weekend-wine-tasting-rioja-vs-ribera-to-go/
LOCATION:Packing House Wines\, 540 W First Street\, Claremont\, CA\, 91711\, United States
END:VEVENT
BEGIN:VEVENT
DTSTART;TZID=America/Los_Angeles:20200926T120000
DTEND;TZID=America/Los_Angeles:20200926T210000
DTSTAMP:20260425T134204
CREATED:20200823T215748Z
LAST-MODIFIED:20200823T215748Z
UID:6591-1601121600-1601154000@packinghousewines.com
SUMMARY:Weekend Wine Tasting: Rioja vs. Ribera (To-Go)
DESCRIPTION:Four 4oz pours of each wine in sterilized vials.
URL:https://packinghousewines.com/event/weekend-wine-tasting-rioja-vs-ribera-to-go-2/
LOCATION:Packing House Wines\, 540 W First Street\, Claremont\, CA\, 91711\, United States
END:VEVENT
BEGIN:VEVENT
DTSTART;TZID=America/Los_Angeles:20200927T140000
DTEND;TZID=America/Los_Angeles:20200927T180000
DTSTAMP:20260425T134204
CREATED:20200823T215847Z
LAST-MODIFIED:20200823T215847Z
UID:6593-1601215200-1601229600@packinghousewines.com
SUMMARY:Weekend Wine Tasting: Rioja vs. Ribera (To-Go)
DESCRIPTION:Upon Availability  \nFour 4oz pours of each wine in sterilized vials.
URL:https://packinghousewines.com/event/weekend-wine-tasting-rioja-vs-ribera-to-go-3/
LOCATION:Packing House Wines\, 540 W First Street\, Claremont\, CA\, 91711\, United States
END:VEVENT
END:VCALENDAR