BEGIN:VCALENDAR
VERSION:2.0
PRODID:-//Packing House Wines - ECPv6.15.20//NONSGML v1.0//EN
CALSCALE:GREGORIAN
METHOD:PUBLISH
X-WR-CALNAME:Packing House Wines
X-ORIGINAL-URL:https://packinghousewines.com
X-WR-CALDESC:Events for Packing House Wines
REFRESH-INTERVAL;VALUE=DURATION:PT1H
X-Robots-Tag:noindex
X-PUBLISHED-TTL:PT1H
BEGIN:VTIMEZONE
TZID:America/Los_Angeles
BEGIN:DAYLIGHT
TZOFFSETFROM:-0800
TZOFFSETTO:-0700
TZNAME:PDT
DTSTART:20190310T100000
END:DAYLIGHT
BEGIN:STANDARD
TZOFFSETFROM:-0700
TZOFFSETTO:-0800
TZNAME:PST
DTSTART:20191103T090000
END:STANDARD
BEGIN:DAYLIGHT
TZOFFSETFROM:-0800
TZOFFSETTO:-0700
TZNAME:PDT
DTSTART:20200308T100000
END:DAYLIGHT
BEGIN:STANDARD
TZOFFSETFROM:-0700
TZOFFSETTO:-0800
TZNAME:PST
DTSTART:20201101T090000
END:STANDARD
BEGIN:DAYLIGHT
TZOFFSETFROM:-0800
TZOFFSETTO:-0700
TZNAME:PDT
DTSTART:20210314T100000
END:DAYLIGHT
BEGIN:STANDARD
TZOFFSETFROM:-0700
TZOFFSETTO:-0800
TZNAME:PST
DTSTART:20211107T090000
END:STANDARD
END:VTIMEZONE
BEGIN:VEVENT
DTSTART;TZID=America/Los_Angeles:20200801T120000
DTEND;TZID=America/Los_Angeles:20200801T210000
DTSTAMP:20260425T151417
CREATED:20200718T223019Z
LAST-MODIFIED:20200725T021142Z
UID:6439-1596283200-1596315600@packinghousewines.com
SUMMARY:Weekend Wine Tasting: Oregon Pinot Noirs (To-Go)
DESCRIPTION:Four 4oz pours of each wine in sterilized vials.
URL:https://packinghousewines.com/event/weekend-wine-tasting-new-zealand-to-go-2/
LOCATION:Packing House Wines\, 540 W First Street\, Claremont\, CA\, 91711\, United States
END:VEVENT
BEGIN:VEVENT
DTSTART;TZID=America/Los_Angeles:20200802T120000
DTEND;TZID=America/Los_Angeles:20200802T180000
DTSTAMP:20260425T151417
CREATED:20200718T223448Z
LAST-MODIFIED:20200725T021206Z
UID:6441-1596369600-1596391200@packinghousewines.com
SUMMARY:Weekend Wine Tasting: Oregon Pinot Noirs (To-Go)
DESCRIPTION:(Upon Availability) \nFour 4oz pours of each wine in sterilized vials.
URL:https://packinghousewines.com/event/weekend-wine-tasting-new-zealand-to-go-3/
LOCATION:Packing House Wines\, 540 W First Street\, Claremont\, CA\, 91711\, United States
END:VEVENT
BEGIN:VEVENT
DTSTART;TZID=America/Los_Angeles:20200807T170000
DTEND;TZID=America/Los_Angeles:20200807T210000
DTSTAMP:20260425T151417
CREATED:20200718T223551Z
LAST-MODIFIED:20200725T021232Z
UID:6443-1596819600-1596834000@packinghousewines.com
SUMMARY:Weekend Wine Tasting: New Zealand (To-Go)
DESCRIPTION:Four 4oz pours of each wine in sterilized vials.
URL:https://packinghousewines.com/event/weekend-wine-tasting-oregon-pinot-noir-to-go/
LOCATION:Packing House Wines\, 540 W First Street\, Claremont\, CA\, 91711\, United States
END:VEVENT
BEGIN:VEVENT
DTSTART;TZID=America/Los_Angeles:20200808T120000
DTEND;TZID=America/Los_Angeles:20200808T210000
DTSTAMP:20260425T151417
CREATED:20200718T223637Z
LAST-MODIFIED:20200725T021304Z
UID:6445-1596888000-1596920400@packinghousewines.com
SUMMARY:Weekend Wine Tasting: New Zealand (To-Go)
DESCRIPTION:Four 4oz pours of each wine in sterilized vials.
URL:https://packinghousewines.com/event/weekend-wine-tasting-oregon-pinot-noir-to-go-2/
LOCATION:Packing House Wines\, 540 W First Street\, Claremont\, CA\, 91711\, United States
END:VEVENT
BEGIN:VEVENT
DTSTART;TZID=America/Los_Angeles:20200809T120000
DTEND;TZID=America/Los_Angeles:20200809T180000
DTSTAMP:20260425T151417
CREATED:20200718T223719Z
LAST-MODIFIED:20200725T021327Z
UID:6447-1596974400-1596996000@packinghousewines.com
SUMMARY:Weekend Wine Tasting: New Zealand (To-Go)
DESCRIPTION:(Upon Availability) \nFour 4oz pours of each wine in sterilized vials.
URL:https://packinghousewines.com/event/weekend-wine-tasting-oregon-pinot-noir-to-go-3/
LOCATION:Packing House Wines\, 540 W First Street\, Claremont\, CA\, 91711\, United States
END:VEVENT
BEGIN:VEVENT
DTSTART;TZID=America/Los_Angeles:20200814T170000
DTEND;TZID=America/Los_Angeles:20200814T210000
DTSTAMP:20260425T151417
CREATED:20200718T223810Z
LAST-MODIFIED:20200718T223810Z
UID:6449-1597424400-1597438800@packinghousewines.com
SUMMARY:Weekend Wine Tasting: Carbonic Wines (To-Go)
DESCRIPTION:Four 4oz pours of each wine in sterilized vials.
URL:https://packinghousewines.com/event/weekend-wine-tasting-carbonic-wines-to-go/
LOCATION:Packing House Wines\, 540 W First Street\, Claremont\, CA\, 91711\, United States
END:VEVENT
BEGIN:VEVENT
DTSTART;TZID=America/Los_Angeles:20200815T120000
DTEND;TZID=America/Los_Angeles:20200815T210000
DTSTAMP:20260425T151417
CREATED:20200718T223847Z
LAST-MODIFIED:20200718T223847Z
UID:6451-1597492800-1597525200@packinghousewines.com
SUMMARY:Weekend Wine Tasting: Carbonic Wines (To-Go)
DESCRIPTION:Four 4oz pours of each wine in sterilized vials.
URL:https://packinghousewines.com/event/weekend-wine-tasting-carbonic-wines-to-go-2/
LOCATION:Packing House Wines\, 540 W First Street\, Claremont\, CA\, 91711\, United States
END:VEVENT
BEGIN:VEVENT
DTSTART;TZID=America/Los_Angeles:20200816T120000
DTEND;TZID=America/Los_Angeles:20200816T180000
DTSTAMP:20260425T151417
CREATED:20200718T223934Z
LAST-MODIFIED:20200718T223934Z
UID:6453-1597579200-1597600800@packinghousewines.com
SUMMARY:Weekend Wine Tasting: Carbonic Wines (To-Go)
DESCRIPTION:(Upon Availability) \nFour 4oz pours of each wine in sterilized vials.
URL:https://packinghousewines.com/event/weekend-wine-tasting-carbonic-wines-to-go-3/
LOCATION:Packing House Wines\, 540 W First Street\, Claremont\, CA\, 91711\, United States
END:VEVENT
BEGIN:VEVENT
DTSTART;TZID=America/Los_Angeles:20200821T170000
DTEND;TZID=America/Los_Angeles:20200821T210000
DTSTAMP:20260425T151417
CREATED:20200725T021507Z
LAST-MODIFIED:20200725T021507Z
UID:6506-1598029200-1598043600@packinghousewines.com
SUMMARY:Weekend Wine Tasting: Zinfandel (To-Go)
DESCRIPTION:Four 4oz pours of each wine in sterilized vials.
URL:https://packinghousewines.com/event/weekend-wine-tasting-zinfandel-to-go/
LOCATION:Packing House Wines\, 540 W First Street\, Claremont\, CA\, 91711\, United States
END:VEVENT
BEGIN:VEVENT
DTSTART;TZID=America/Los_Angeles:20200822T120000
DTEND;TZID=America/Los_Angeles:20200822T210000
DTSTAMP:20260425T151417
CREATED:20200725T021555Z
LAST-MODIFIED:20200725T021555Z
UID:6508-1598097600-1598130000@packinghousewines.com
SUMMARY:Weekend Wine Tasting: Zinfandel (To-Go)
DESCRIPTION:Four 4oz pours of each wine in sterilized vials.
URL:https://packinghousewines.com/event/weekend-wine-tasting-zinfandel-to-go-2/
LOCATION:Packing House Wines\, 540 W First Street\, Claremont\, CA\, 91711\, United States
END:VEVENT
BEGIN:VEVENT
DTSTART;TZID=America/Los_Angeles:20200823T120000
DTEND;TZID=America/Los_Angeles:20200823T180000
DTSTAMP:20260425T151417
CREATED:20200725T021648Z
LAST-MODIFIED:20200725T021648Z
UID:6510-1598184000-1598205600@packinghousewines.com
SUMMARY:Weekend Wine Tasting: Zinfandel (To-Go)
DESCRIPTION:Upon Availability  \nFour 4oz pours of each wine in sterilized vials.
URL:https://packinghousewines.com/event/weekend-wine-tasting-zinfandel-to-go-3/
LOCATION:Packing House Wines\, 540 W First Street\, Claremont\, CA\, 91711\, United States
END:VEVENT
BEGIN:VEVENT
DTSTART;TZID=America/Los_Angeles:20200828T170000
DTEND;TZID=America/Los_Angeles:20200828T210000
DTSTAMP:20260425T151417
CREATED:20200725T021735Z
LAST-MODIFIED:20200823T214814Z
UID:6512-1598634000-1598648400@packinghousewines.com
SUMMARY:Weekend Wine Tasting: "Staycation" Wines (To-Go)
DESCRIPTION:Featuring Southern California wineries that are currently open for wine tastings. \nFour 4oz pours of each wine in sterilized vials.
URL:https://packinghousewines.com/event/weekend-wine-tasting-rhones-of-the-world-to-go/
LOCATION:Packing House Wines\, 540 W First Street\, Claremont\, CA\, 91711\, United States
END:VEVENT
BEGIN:VEVENT
DTSTART;TZID=America/Los_Angeles:20200829T120000
DTEND;TZID=America/Los_Angeles:20200829T210000
DTSTAMP:20260425T151417
CREATED:20200725T021811Z
LAST-MODIFIED:20200823T214859Z
UID:6514-1598702400-1598734800@packinghousewines.com
SUMMARY:Weekend Wine Tasting: "Staycation" Wines (To-Go)
DESCRIPTION:Featuring Southern California wineries that are currently open for wine tastings. \nFour 4oz pours of each wine in sterilized vials.
URL:https://packinghousewines.com/event/weekend-wine-tasting-rhones-of-the-world-to-go-2/
LOCATION:Packing House Wines\, 540 W First Street\, Claremont\, CA\, 91711\, United States
END:VEVENT
BEGIN:VEVENT
DTSTART;TZID=America/Los_Angeles:20200830T120000
DTEND;TZID=America/Los_Angeles:20200830T180000
DTSTAMP:20260425T151417
CREATED:20200725T021913Z
LAST-MODIFIED:20200823T214932Z
UID:6516-1598788800-1598810400@packinghousewines.com
SUMMARY:Weekend Wine Tasting : "Staycation" Wines (To-Go)
DESCRIPTION:Upon Availability  \nFeaturing Southern California wineries that are currently open for wine tastings. \nFour 4oz pours of each wine in sterilized vials.
URL:https://packinghousewines.com/event/weekend-wine-tasting-rhones-of-the-world-to-go-3/
LOCATION:Packing House Wines\, 540 W First Street\, Claremont\, CA\, 91711\, United States
END:VEVENT
END:VCALENDAR